BEGIN:VCALENDAR
VERSION:2.0
PRODID:-//Collegio Borromeo - ECPv6.14.0//NONSGML v1.0//EN
CALSCALE:GREGORIAN
METHOD:PUBLISH
X-ORIGINAL-URL:https://www.collegioborromeo.it
X-WR-CALDESC:Eventi per Collegio Borromeo
REFRESH-INTERVAL;VALUE=DURATION:PT1H
X-Robots-Tag:noindex
X-PUBLISHED-TTL:PT1H
BEGIN:VTIMEZONE
TZID:Europe/Paris
BEGIN:DAYLIGHT
TZOFFSETFROM:+0100
TZOFFSETTO:+0200
TZNAME:CEST
DTSTART:20250330T010000
END:DAYLIGHT
BEGIN:STANDARD
TZOFFSETFROM:+0200
TZOFFSETTO:+0100
TZNAME:CET
DTSTART:20251026T010000
END:STANDARD
END:VTIMEZONE
BEGIN:VEVENT
DTSTART;TZID=Europe/Paris:20250521T180000
DTEND;TZID=Europe/Paris:20250521T200000
DTSTAMP:20260423T133410
CREATED:20250404T082529Z
LAST-MODIFIED:20250404T093549Z
UID:10001652-1747850400-1747857600@www.collegioborromeo.it
SUMMARY:Aggiornamenti di STORIA RELIGIOSA
DESCRIPTION:CICLO DI INCONTRI IN COLLABORAZIONE CON \nCentro di Studi Interreligiosi \nUniversità di Pavia \nPRENOTA IL TUO POSTO \n\nINCONTRI \nmercoledì 9 aprile 2025\, ore 18.00\nCONFERENZA INAUGURALE DEI CORSI DI STORIA DEL CRISTIANESIMO E CONVERSIONI E CONVIVENZA INTERRELIGIOSA NEL MEDITERRANEO\nStoria del battesimo Piccolo vademecum per anime curiose (Alessandria\, Edizioni dell’Orso\, 2024)\nL’AUTRICE Samuela MARCONCINI NE DISCUTE CON:\nFrancesco MORES\, Università Statale di Milano\nDavide SCOTTO\, Università di Pavia \ngiovedì 10 aprile 2025\, ore 18.00\nCONFERENZA NELL’AMBITO DEL CORSO DI STORIA DEL PENSIERO TEOLOGICO ISLAMICO\nAl cospetto del Re. Intermediazione e intercessione nell’Islam (Brescia\, Morcelliana\, 2023)\nL’AUTORE Luca PATRIZI NE DISCUTE CON:\nMichele PETRONE\, Università di Napoli L’Orientale\nFederico STELLA\, Università di Napoli L’Orientale\n \nmercoledì 21 maggio 2025\, ore 18.00\nCONFERENZA NELL’AMBITO DEL CORSO DI STORIA DEL CRISTIANESIMO\nLa nazione\, la religione\, l’avvenire.Sulle tracce di Ernest Renan (Milano\, Cortina\, 2024)\ndi François HARTOG e a cura di Francesco MORES\nIL CURATORE NE DISCUTE CON:\nSerena FELOJ\, Università di Pavia\nDavide SCOTTO\, Università di Pavia \nLOCANDINA
URL:https://www.collegioborromeo.it/event/aggiornamenti-di-storia-religiosa/2025-05-21/
CATEGORIES:Attività 2024_2025,Seminari,Seminars
ATTACH;FMTTYPE=image/jpeg:https://www.collegioborromeo.it/wp-content/uploads/2025/04/storia-religiosa-scaled.jpg
END:VEVENT
END:VCALENDAR