BEGIN:VCALENDAR
VERSION:2.0
PRODID:-//Collegio Borromeo - ECPv6.14.0//NONSGML v1.0//EN
CALSCALE:GREGORIAN
METHOD:PUBLISH
X-ORIGINAL-URL:https://www.collegioborromeo.it
X-WR-CALDESC:Eventi per Collegio Borromeo
REFRESH-INTERVAL;VALUE=DURATION:PT1H
X-Robots-Tag:noindex
X-PUBLISHED-TTL:PT1H
BEGIN:VTIMEZONE
TZID:Europe/Paris
BEGIN:DAYLIGHT
TZOFFSETFROM:+0100
TZOFFSETTO:+0200
TZNAME:CEST
DTSTART:20260329T010000
END:DAYLIGHT
BEGIN:STANDARD
TZOFFSETFROM:+0200
TZOFFSETTO:+0100
TZNAME:CET
DTSTART:20261025T010000
END:STANDARD
END:VTIMEZONE
BEGIN:VEVENT
DTSTART;TZID=Europe/Paris:20260427T210000
DTEND;TZID=Europe/Paris:20260427T223000
DTSTAMP:20260425T121727
CREATED:20260416T111131Z
LAST-MODIFIED:20260416T111131Z
UID:10002316-1777323600-1777329000@www.collegioborromeo.it
SUMMARY:Ormoni e umore il peso invisibile della PCOS
DESCRIPTION:Ginecologia Z – Secondo incontro \nRELATORE\nRossella NAPPI\, Università di Pavia\, Dipartimento di Scienze Clinico-Chirurgiche\, Diagnostiche e Pediatriche \nGli incontri sono riconosciuti dalla Scuola IUSS quale attività formativa extra-ambito dei Corsi ordinari. \nPRENOTA IL TUO POSTO \n\nLOCANDINA
URL:https://www.collegioborromeo.it/event/ormoni-e-umore-il-peso-invisibile-della-pcos/
CATEGORIES:Attività 2025_2026,Conferences, Conventions and Seminars,Conferenze,Conferenze, Convegni e Seminari
ATTACH;FMTTYPE=image/jpeg:https://www.collegioborromeo.it/wp-content/uploads/2026/04/ginecologia-z-scaled.jpg
END:VEVENT
BEGIN:VEVENT
DTSTART;TZID=Europe/Paris:20260430T150000
DTEND;TZID=Europe/Paris:20260430T170000
DTSTAMP:20260425T121727
CREATED:20260422T105608Z
LAST-MODIFIED:20260422T105608Z
UID:10002346-1777561200-1777568400@www.collegioborromeo.it
SUMMARY:Filosofia comica. Filosofi ed intellettuali nella commedia greca
DESCRIPTION:CONFERENZA \nRELATORE\nBernhard ZIMMERMANN\, Università di Freiburg \nDOCENTE REFERENTE\nVirginia MASTELLARI\, Università di Pavia \nPRENOTA IL TUO POSTO \n\nLOCANDINA
URL:https://www.collegioborromeo.it/event/filosofia-comica-filosofi-ed-intellettuali-nella-commedia-greca/
CATEGORIES:Attività 2025_2026,Conferences,Conferences, Conventions and Seminars,Conferenze,Conferenze, Convegni e Seminari
ATTACH;FMTTYPE=image/jpeg:https://www.collegioborromeo.it/wp-content/uploads/2026/04/filosofia-comica-scaled.jpg
END:VEVENT
END:VCALENDAR