BEGIN:VCALENDAR
VERSION:2.0
PRODID:-//Collegio Borromeo - ECPv6.14.0//NONSGML v1.0//EN
CALSCALE:GREGORIAN
METHOD:PUBLISH
X-ORIGINAL-URL:https://www.collegioborromeo.it
X-WR-CALDESC:Eventi per Collegio Borromeo
REFRESH-INTERVAL;VALUE=DURATION:PT1H
X-Robots-Tag:noindex
X-PUBLISHED-TTL:PT1H
BEGIN:VTIMEZONE
TZID:Europe/Paris
BEGIN:DAYLIGHT
TZOFFSETFROM:+0100
TZOFFSETTO:+0200
TZNAME:CEST
DTSTART:20260329T010000
END:DAYLIGHT
BEGIN:STANDARD
TZOFFSETFROM:+0200
TZOFFSETTO:+0100
TZNAME:CET
DTSTART:20261025T010000
END:STANDARD
END:VTIMEZONE
BEGIN:VEVENT
DTSTART;TZID=Europe/Paris:20260505T180000
DTEND;TZID=Europe/Paris:20260505T200000
DTSTAMP:20260425T154149
CREATED:20260416T150832Z
LAST-MODIFIED:20260416T150832Z
UID:10002339-1778004000-1778011200@www.collegioborromeo.it
SUMMARY:OPEN DAY delle Scuole di Specializzazione di Anestesia\, Rianimazione e Terapia Intensiva e del Dolore\, Chirurgia Generale\, Medicina di Emergenza-Urgenza
DESCRIPTION:Incontro rivolto agli studenti del V e VI anno della Facoltà di Medicina e Chirurgia \n“Il futuro è verde\, è freddo\, è profondo come il mare” – Due ragazzi\, Lucio Dalla \nINTERVENTI\nSilvia NATOLI\, Università di Pavia\nLorenzo COBIANCHI\, Università di Pavia\nStefano PERLINI\, Università di Pavia \nIn dialogo con alcuni specializzandi \nINTRODUCONO\nAlba MUZZI\, IRCCS Fondazione Policlinico San Matteo (Pavia)\nLuca ANSALONI\, Università di Pavia \nSeguirà sessione di domande e risposte \nPRENOTA IL TUO POSTO \n\nLOCANDINA
URL:https://www.collegioborromeo.it/event/open-day-delle-scuole-di-specializzazione-di-anestesia-rianimazione-e-terapia-intensiva-e-del-dolore-chirurgia-generale-medicina-di-emergenza-urgenza-2/
CATEGORIES:Attività 2025_2026,Conferences, Conventions and Seminars,Conferenze,Conferenze, Convegni e Seminari,Eventi,Events
ATTACH;FMTTYPE=image/jpeg:https://www.collegioborromeo.it/wp-content/uploads/2026/04/open-day-scaled.jpg
END:VEVENT
BEGIN:VEVENT
DTSTART;TZID=Europe/Paris:20260526T180000
DTEND;TZID=Europe/Paris:20260526T200000
DTSTAMP:20260425T154149
CREATED:20260416T110715Z
LAST-MODIFIED:20260416T111256Z
UID:10002318-1779818400-1779825600@www.collegioborromeo.it
SUMMARY:Aggiornamenti di STORIA RELIGIOSA
DESCRIPTION:CICLO DI INCONTRI \ngiovedì 23 aprile 2026\, ore 18.00\nMondi islamici (Einaudi\, 2024) \nA CURA DI\nRoberto TOTTOLI\, Rettore Università di Napoli L’Orientale\nMichele BERNARDINI\, Università di Napoli L’Orientale\nI CURATORI NE DISCUTONO CON\nFederico STELLA\, Università di Napoli L’Orientale \nmartedì 26 maggio 2026\, ore 18.00\nAnatomia di un inquisitore. Frate Pietro da Verona – san Pietro martire (Milano UniPress\, 2025) \nA CURA DI\nMarina BENEDETTI\, Università degli Studi di Milano \nLA CURATRICE NE DISCUTE CON\nThomas FRANK\, Università di Pavia\nFrancesco MORES\, Università degli Studi di Milano \nEvento promosso nell’ambito della LM Week dell’Università di Pavia \nPRENOTA IL TUO POSTO \n\nLOCANDINA
URL:https://www.collegioborromeo.it/event/aggiornamenti-di-storia-religiosa-2/2026-05-26/
CATEGORIES:Attività 2025_2026,Conferences, Conventions and Seminars,Conferenze
ATTACH;FMTTYPE=image/jpeg:https://www.collegioborromeo.it/wp-content/uploads/2026/04/storia-religiosa-scaled.jpg
END:VEVENT
END:VCALENDAR