BEGIN:VCALENDAR
VERSION:2.0
PRODID:-//Collegio Borromeo - ECPv6.14.0//NONSGML v1.0//EN
CALSCALE:GREGORIAN
METHOD:PUBLISH
X-ORIGINAL-URL:https://www.collegioborromeo.it
X-WR-CALDESC:Eventi per Collegio Borromeo
REFRESH-INTERVAL;VALUE=DURATION:PT1H
X-Robots-Tag:noindex
X-PUBLISHED-TTL:PT1H
BEGIN:VTIMEZONE
TZID:Europe/Paris
BEGIN:DAYLIGHT
TZOFFSETFROM:+0100
TZOFFSETTO:+0200
TZNAME:CEST
DTSTART:20260329T010000
END:DAYLIGHT
BEGIN:STANDARD
TZOFFSETFROM:+0200
TZOFFSETTO:+0100
TZNAME:CET
DTSTART:20261025T010000
END:STANDARD
END:VTIMEZONE
BEGIN:VEVENT
DTSTART;TZID=Europe/Paris:20260217T160000
DTEND;TZID=Europe/Paris:20260217T200000
DTSTAMP:20260425T154128
CREATED:20260129T170806Z
LAST-MODIFIED:20260220T115024Z
UID:10002168-1771344000-1771358400@www.collegioborromeo.it
SUMMARY:Inquisizioni e microstorie: Manzoni\, Sciascia\, Ginzburg
DESCRIPTION:POMERIGGIO DI STUDI \nIl posto dell’inquisizione fra i tribunali della coscienza della Chiesa medievale\nAdriano PROSPERI\, Scuola Normale Superiore di Pisa – Socio dell’Accademia delle Scienze di Torino \nTra Manzoni e Borges le inquisizioni di Leonardo Sciascia\nPaolo SQUILLACIOTI\, Consiglio Nazionale delle Ricerche – Direttore dell’Istituto Opera del Vocabolario Italiano (OVI) \nDa Il formaggio e i vermi alla microstoria\nMatteo DI TULLIO e Francesco TORCHIANI\, Università di Pavia \nCOORDINA: Luca STEFANELLI\, Università di Pavia \nPRENOTA IL TUO POSTO \nL’incontro è riconosciuto dalla Scuola IUSS. \n\nLOCANDINA
URL:https://www.collegioborromeo.it/event/inquisizioni-e-microstorie-manzoni-sciascia-ginzburg/
CATEGORIES:Attività 2025_2026,Conferences,Conferences, Conventions and Seminars,Conferenze,Conferenze, Convegni e Seminari
ATTACH;FMTTYPE=image/jpeg:https://www.collegioborromeo.it/wp-content/uploads/2026/01/Inquisizioni-e-microstorie-1-scaled.jpg
END:VEVENT
BEGIN:VEVENT
DTSTART;TZID=Europe/Paris:20260223T180000
DTEND;TZID=Europe/Paris:20260223T200000
DTSTAMP:20260425T154128
CREATED:20260119T144753Z
LAST-MODIFIED:20260220T114144Z
UID:10002108-1771869600-1771876800@www.collegioborromeo.it
SUMMARY:L’Iliade e la guerra: incanto e disincanto
DESCRIPTION:CONFERENZA CON RELATORE\nLuigi BATTEZZATO\, Scuola Normale Superiore di Pisa \nIncontro riconosciuto dalla Scuola IUSS. \nPRENOTA IL TUO POSTO \n\nLOCANDINA
URL:https://www.collegioborromeo.it/event/liliade-e-la-guerra-incanto-e-disincanto/
CATEGORIES:Attività 2025_2026,Conferences, Conventions and Seminars,Conferenze,Conferenze, Convegni e Seminari
ATTACH;FMTTYPE=image/jpeg:https://www.collegioborromeo.it/wp-content/uploads/2026/01/liliade-e-la-guerra-1-scaled.jpg
END:VEVENT
BEGIN:VEVENT
DTSTART;TZID=Europe/Paris:20260224T180000
DTEND;TZID=Europe/Paris:20260224T200000
DTSTAMP:20260425T154128
CREATED:20260211T140527Z
LAST-MODIFIED:20260220T114403Z
UID:10002207-1771956000-1771963200@www.collegioborromeo.it
SUMMARY:Economia e differenziazione di genere. Il ruolo del sistema economico nella definizione delle diseguaglianze
DESCRIPTION:Conferenza \nRELATRICE\nEnrica CHIAPPERO\, Università di Pavia \nL’incontro è riconosciuto dalla Scuola IUSS quale attività formativa extra-ambito dei Corsi ordinari. \nPRENOTA IL TUO POSTO \n\nLOCANDINA
URL:https://www.collegioborromeo.it/event/economia-e-differenziazione-di-genere-il-ruolo-del-sistema-economico-nella-definizione-delle-diseguaglianze/
CATEGORIES:Attività 2025_2026,Conferences,Conferences, Conventions and Seminars,Conferenze,Conferenze, Convegni e Seminari
ATTACH;FMTTYPE=image/jpeg:https://www.collegioborromeo.it/wp-content/uploads/2026/02/economia-e-differenziazione-scaled.jpg
END:VEVENT
BEGIN:VEVENT
DTSTART;TZID=Europe/Paris:20260226T170000
DTEND;TZID=Europe/Paris:20260226T190000
DTSTAMP:20260425T154128
CREATED:20260213T115047Z
LAST-MODIFIED:20260226T175730Z
UID:10002218-1772125200-1772132400@www.collegioborromeo.it
SUMMARY:GIULIO REGENI. TUTTO IL MALE DEL MONDO
DESCRIPTION:PROIEZIONE DEL DOCUMENTARIO\nGanesh Produzioni e Fandango\, 2026\ndurata 100 minuti\n \nA SEGUIRE\, IL DIALOGO TRA\nEmanuele CAVA\, Autore\nAlessandra BALLERINI\, Avvocata civilista specializzata in diritti umani e immigrazione – Legale della famiglia Regeni  e docente del laboratorio Indivisibili: l’essenza dei diritti umani. A civic skill \nINAUGURAZIONE DEL CORSO DI MEDICINA EQUITÀ DIRITTI \nL’attività formativa è parte del laboratorio sulle competenze trasversali Indivisibili: l’essenza dei diritti umani A civic skill nell’ambito del Progetto Collegiale Non Residente con riconoscimento Open Badge aperto a tutti gli studenti dei corsi di laurea triennale e magistrale dell’Università di Pavia. \nPRENOTA IL TUO POSTO QUI \n\nLOCANDINA
URL:https://www.collegioborromeo.it/event/giulio-regeni-tutto-il-male-del-mondo-proiezione/
CATEGORIES:Attività 2025_2026,Attività formativa del progetto COLLEGIALE NON RESIDENTE,CNR,Conferences,Conferences, Conventions and Seminars,Conferenze,Eventi
ATTACH;FMTTYPE=image/jpeg:https://www.collegioborromeo.it/wp-content/uploads/2026/02/TUTTO-IL-MALE-DEL-MONDO-scaled.jpg
END:VEVENT
BEGIN:VEVENT
DTSTART;TZID=Europe/Paris:20260226T180000
DTEND;TZID=Europe/Paris:20260226T190000
DTSTAMP:20260425T154128
CREATED:20260206T115444Z
LAST-MODIFIED:20260206T115444Z
UID:10002170-1772128800-1772132400@www.collegioborromeo.it
SUMMARY:Da Murasaki a Yourcenar. Il principe Genji tra Oriente e Occidente
DESCRIPTION:RELATORI\nAndrea MAURIZI\, Università di Milano Bicocca\nSerena CODENA\, Università di Pavia \nGli incontri sono riconosciuti dalla Scuola IUSS quale attività formativa extra-ambito dei Corsi ordinari. \nPRENOTA IL TUO POSTO \n\nLOCANDINA
URL:https://www.collegioborromeo.it/event/da-murasaki-a-yourcenar-il-principe-genji-tra-oriente-e-occidente/
CATEGORIES:Attività 2025_2026,Conferences,Conferences, Conventions and Seminars,Conferenze,Conferenze, Convegni e Seminari
ATTACH;FMTTYPE=image/jpeg:https://www.collegioborromeo.it/wp-content/uploads/2026/02/Da-Murasaki-a-youcenar-scaled.jpg
END:VEVENT
BEGIN:VEVENT
DTSTART;TZID=Europe/Paris:20260227T180000
DTEND;TZID=Europe/Paris:20260227T200000
DTSTAMP:20260425T154128
CREATED:20260211T161642Z
LAST-MODIFIED:20260211T161642Z
UID:10002214-1772215200-1772222400@www.collegioborromeo.it
SUMMARY:Musica antica
DESCRIPTION:Gli incontri del ciclo sono riconosciuti dalla Scuola IUSS quale attività formativa extra-ambito dei Corsi ordinari. \nPRENOTA IL TUO POSTO \n\nCALENDARIO INCONTRI \nvenerdì 27 febbraio 2026\, ore 18.00\nMusica e canto presso gli Ittiti (e gli Hurriti)\nMauro GIORGIERI\, Università di Pavia \ngiovedì 5 marzo 2026\, ore 17.30\nPindaro tra riflessione e prassi musicale\nEleonora ROCCONI\, Università di Pavia\nMarco ERCOLES\, Università di Bologna \ngiovedì 12 marzo 2026\, ore 17.30\nἩ ψαλτικὴ τέχνη. il canto del medioevo bizantino\nSandra MARTANI\, Università di Pavia \n\nLOCANDINA
URL:https://www.collegioborromeo.it/event/musica-antica/2026-02-27/
CATEGORIES:Attività 2025_2026,Conferences,Conferences, Conventions and Seminars,Conferenze
ATTACH;FMTTYPE=image/jpeg:https://www.collegioborromeo.it/wp-content/uploads/2026/02/musica-antica-scaled.jpg
END:VEVENT
END:VCALENDAR