BEGIN:VCALENDAR
VERSION:2.0
PRODID:-//Collegio Borromeo - ECPv6.14.0//NONSGML v1.0//EN
CALSCALE:GREGORIAN
METHOD:PUBLISH
X-ORIGINAL-URL:https://www.collegioborromeo.it
X-WR-CALDESC:Eventi per Collegio Borromeo
REFRESH-INTERVAL;VALUE=DURATION:PT1H
X-Robots-Tag:noindex
X-PUBLISHED-TTL:PT1H
BEGIN:VTIMEZONE
TZID:Europe/Paris
BEGIN:DAYLIGHT
TZOFFSETFROM:+0100
TZOFFSETTO:+0200
TZNAME:CEST
DTSTART:20260329T010000
END:DAYLIGHT
BEGIN:STANDARD
TZOFFSETFROM:+0200
TZOFFSETTO:+0100
TZNAME:CET
DTSTART:20261025T010000
END:STANDARD
END:VTIMEZONE
BEGIN:VTIMEZONE
TZID:Europe/Helsinki
BEGIN:DAYLIGHT
TZOFFSETFROM:+0200
TZOFFSETTO:+0300
TZNAME:EEST
DTSTART:20260329T010000
END:DAYLIGHT
BEGIN:STANDARD
TZOFFSETFROM:+0300
TZOFFSETTO:+0200
TZNAME:EET
DTSTART:20261025T010000
END:STANDARD
END:VTIMEZONE
BEGIN:VEVENT
DTSTART;TZID=Europe/Paris:20260112T180000
DTEND;TZID=Europe/Paris:20260112T190000
DTSTAMP:20260425T171959
CREATED:20251222T123054Z
LAST-MODIFIED:20260112T100843Z
UID:10002103-1768240800-1768244400@www.collegioborromeo.it
SUMMARY:Diritto del farmaco: medicinali\, diritto alla salute e politiche sanitarie
DESCRIPTION:II Edizione | Cacucci Editore\, 2025 \nINTRODUZIONE DI\nVincenzo SALVATORE\, Università dell’Insubria di Varese e Presidente dell’Almo Collegio Borromeo \nRenato BALDUZZI\, Università Cattolica – Presidente AIC – Associazione italiana dei costituzionalisti\nAndrea MANDELLI\, Presidente della Federazione degli Ordini dei Farmacisti (FOFI)\nGiovanni PAVESI\, Direttore AIFA \nNE DISCUTONO CON GLI AUTORI\nGiuseppe Franco FERRARI\, Università Bocconi di Milano\nFausto MASSIMINO\, Chief Legal Roche \nPRENOTA IL TUO POSTO > QUI \n\nLOCANDINA
URL:https://www.collegioborromeo.it/event/diritto-del-farmaco-medicinali-diritto-alla-salute-e-politiche-sanitarie/
CATEGORIES:Attività 2025_2026,Conferences,Conferences, Conventions and Seminars,Conferenze
ATTACH;FMTTYPE=image/jpeg:https://www.collegioborromeo.it/wp-content/uploads/2025/12/diritto-del-farmaco-1-scaled.jpg
END:VEVENT
BEGIN:VEVENT
DTSTART;TZID=Europe/Helsinki:20260115T170000
DTEND;TZID=Europe/Helsinki:20260115T200000
DTSTAMP:20260425T171959
CREATED:20251120T124749Z
LAST-MODIFIED:20260216T115944Z
UID:10002083-1768496400-1768507200@www.collegioborromeo.it
SUMMARY:INDIVISIBILI\, l’essenza dei diritti umani. A civic skill
DESCRIPTION:Attività formativa del progetto COLLEGIALE NON RESIDENTE \nLaboratorio sulle competenze trasversali Open Badge aperto a tutti gli studenti dei corsi di laurea triennale e magistrale dell’Università di Pavia. L’open badge è riconosciuto previa validazione della frequenza ad almeno il 75% delle lezioni previste partecipando attivamente a discussioni e attività laboratoriali. \nISCRIVITI AL CORSO > QUI \nDOCENTE\nAlessandra BALLERINI\, Avvocata civilista specializzata in diritti umani e immigrazione\n \n“I diritti umani sono indivisibili\, interdipendenti e correlati.\nQuesto significa che i diversi diritti umani sono intrinsecamente connessi così come le persone. I diritti fondamentali dell’individuo o valgono per tutti o non valgono per nessuno. Creare una ferita in un qualsiasi diritto umano\, accettare che venga calpestato ai danni di qualsiasi persona\, vuol dire rendere quel diritto più\ndebole. La magia dei diritti umani è questa: quando difendi quelli di una persona\, difendi quelli di tutti\, anche i tuoi. In questo contesto l’esperienza maturata nell’ambito della tutela dei diritti da parte dell’avv. Ballerini\, anche nella drammatica storia di Giulio Regeni\, consente di lavorare sulle competenze trasversali come le capacità che permettono al cittadino di agire consapevolmente in un contesto sociale profondamente complesso e che consenta di partecipare responsabilmente alla vita civica.” \nLEZIONI \ngiovedì 27 novembre 2025\, ore 18.00 \nvenerdì 28 novembre 2025\, ore 15.30 > A CAUSA DELLO SCOPERO RINVIATA AL 10/12/2025 \ngiovedì 15 gennaio 2026\, ore 17.00 \nvenerdì 16 gennaio 2026\, ore 14.30 > LEZIONE RINVIATA AL 26/02/2025 \n\nLOCANDINA
URL:https://www.collegioborromeo.it/event/indivisibili-lessenza-dei-diritti-umani-a-civic-skill/2026-01-15/
CATEGORIES:Attività 2025_2026,Attività formativa del progetto COLLEGIALE NON RESIDENTE,CNR,Conferences,Conferences, Conventions and Seminars,Conferenze,Conferenze, Convegni e Seminari
ATTACH;FMTTYPE=image/png:https://www.collegioborromeo.it/wp-content/uploads/2025/11/Screenshot-2025-11-12-alle-00.28.32.png
END:VEVENT
END:VCALENDAR