BEGIN:VCALENDAR
VERSION:2.0
PRODID:-//Collegio Borromeo - ECPv6.14.0//NONSGML v1.0//EN
CALSCALE:GREGORIAN
METHOD:PUBLISH
X-ORIGINAL-URL:https://www.collegioborromeo.it
X-WR-CALDESC:Eventi per Collegio Borromeo
REFRESH-INTERVAL;VALUE=DURATION:PT1H
X-Robots-Tag:noindex
X-PUBLISHED-TTL:PT1H
BEGIN:VTIMEZONE
TZID:Europe/Helsinki
BEGIN:DAYLIGHT
TZOFFSETFROM:+0200
TZOFFSETTO:+0300
TZNAME:EEST
DTSTART:20250330T010000
END:DAYLIGHT
BEGIN:STANDARD
TZOFFSETFROM:+0300
TZOFFSETTO:+0200
TZNAME:EET
DTSTART:20251026T010000
END:STANDARD
END:VTIMEZONE
BEGIN:VEVENT
DTSTART;TZID=Europe/Helsinki:20251202T110000
DTEND;TZID=Europe/Helsinki:20251202T130000
DTSTAMP:20260425T185548
CREATED:20251027T181026Z
LAST-MODIFIED:20251027T181026Z
UID:10002055-1764673200-1764680400@www.collegioborromeo.it
SUMMARY:Orizzonti di letteratura cristiana antica (V edizione)
DESCRIPTION:CICLO DI INCONTRI DI APPROFONDIMENTO DAL CORSO DI LETTERATURA CRISTIANA ANTICA \nIl ciclo di conferenze intende stimolare riflessioni su momenti nodali dello sviluppo della tradizione cristiana nell’Oriente greco e nell’Occidente latino e su opere e personalità di scrittori considerati particolarmente significativi in tale contesto\, mostrandone i caratteri peculiari sul versante letterario e su quello contenutistico. Le lezioni si inseriscono nell’ambito del corso di Letteratura cristiana antica\, promosso dal Collegio Borromeo e inserito nell’offerta formativa della Laurea magistrale in Antichità classiche e orientali dell’Università di Pavia. Il ciclo è organizzato con il patrocinio del Dipartimento di Studi umanistici dell’Università di Pavia e dell’Associazione Italiana di Cultura Classica – delegazione di Pavia “Domenico Magnino”.\nL’iniziativa è riconosciuta come attività di aggiornamento dei docenti della scuola secondaria di secondo grado (id. SOFIA: 101571). Gli incontri si svolgeranno in presenza e saranno trasmessi in streaming al link che sarà comunicato ai docenti iscritti che ne faranno richiesta. \nDOCENTE RESPONSABILE\nFabrizio BORDONE\, Università di Pavia \nPrenota il tuo posto> QUI \nAPPUNTAMENTI\nmartedì 18 novembre\, ore 11.00\nLa morale matrimoniale in Tertulliano\ncon Maria VERONESE\, Università di Padova \nmercoledì 26 novembre\, ore 11.00\nGuerra e pace in Agostino (Aug. civ. XIX)\ncon Paola Francesca MORETTI\, Università di Milano la Statale \nmartedì 2 dicembre\, ore 11.00\nLa dialettica tra chiarezza e oscurità della Scrittura alla luce dell’Apocalisse. Il Commento al Vangelo di Giovanni di Origene\ncon Luca ARCARI\, Università di Napoli “Federico II” \nmercoledì 17 dicembre ore 11.00\nLa poesia cristiana nella temperie storica\, politica e religiosa dell’Africa romana pre-costantiniana. Il caso di Commodiano\ncon Alberto D’INCÀ\, Facoltà Teologica dell’Italia settentrionale \n\nLOCANDINA \n  \n 
URL:https://www.collegioborromeo.it/event/orizzonti-di-letteratura-cristiana-antica-v-edizione/2025-12-02/
CATEGORIES:Attività 2025_2026,Conferences, Conventions and Seminars,Conferenze,Conferenze, Convegni e Seminari
ATTACH;FMTTYPE=image/jpeg:https://www.collegioborromeo.it/wp-content/uploads/2025/10/orizzonti-scaled.jpg
END:VEVENT
BEGIN:VEVENT
DTSTART;TZID=Europe/Helsinki:20251203T210000
DTEND;TZID=Europe/Helsinki:20251203T223000
DTSTAMP:20260425T185548
CREATED:20251023T115359Z
LAST-MODIFIED:20251106T095109Z
UID:10002032-1764795600-1764801000@www.collegioborromeo.it
SUMMARY:FINZIONI. La capacità di immaginare mondi
DESCRIPTION:CICLO DI CONFERENZE A CURA DI\nSerena FELOJ e Luca VANZAGO\, Università di Pavia \nINCONTRI \nlunedì 3 novembre\nWhat if. La fine delle utopie e delle distopie\nGiacomo PAPI\, scrittore e giornalista con Luca VANZAGO e Serena FELOJ\, Università di Pavia \nmartedì 11 novembre \nLa forma che vive nelle immagini\nSilvana BORUTTI\, Università di Pavia \nmercoledì 26 novembre\nOntologia del far finta\nAchille VARZI\, Columbia University\nEVENTO A DISTANZA\, ISCRIZIONE WEBINAR > LINK \nmercoledì 3 dicembre\nTrump l’oeil\, o la morte della finzione?\nMauro CARBONE\, Università Jean Moulin Lyon 3 \nPrenota il tuo posto> LINK \n\nLOCANDINA
URL:https://www.collegioborromeo.it/event/finzioni-la-capacita-di-immaginare-mondi/2025-12-03/
CATEGORIES:Attività 2025_2026,Conferences,Conferences, Conventions and Seminars,Conferenze,Conferenze, Convegni e Seminari
ATTACH;FMTTYPE=image/jpeg:https://www.collegioborromeo.it/wp-content/uploads/2025/10/Finzioni-scaled.jpg
END:VEVENT
BEGIN:VEVENT
DTSTART;TZID=Europe/Helsinki:20251210T210000
DTEND;TZID=Europe/Helsinki:20251210T223000
DTSTAMP:20260425T185548
CREATED:20251124T120905Z
LAST-MODIFIED:20251125T151544Z
UID:10002085-1765400400-1765405800@www.collegioborromeo.it
SUMMARY:Esplorare in vitro l’ematopoiesi umana durante lo sviluppo embrionale per aprire nuove rotte di medicina rigenerativa
DESCRIPTION:Orizzonti della ricerca biomedica \nSecondo incontro del ciclo\, con relatore Andrea DITADI\, IRCCS Ospedale San Raffaele \nPRENOTA IL TUO POSTO > QUI \n\nLOCANDINA
URL:https://www.collegioborromeo.it/event/esplorare-in-vitro-lematopoiesi-umana-durante-lo-sviluppo-embrionale-per-aprire-nuove-rotte-di-medicina-rigenerativa/
CATEGORIES:Attività 2025_2026,Conferences,Conferences, Conventions and Seminars,Conferenze,Conferenze, Convegni e Seminari
END:VEVENT
BEGIN:VEVENT
DTSTART;TZID=Europe/Helsinki:20251211T180000
DTEND;TZID=Europe/Helsinki:20251211T200000
DTSTAMP:20260425T185548
CREATED:20251128T151125Z
LAST-MODIFIED:20251128T151125Z
UID:10002093-1765476000-1765483200@www.collegioborromeo.it
SUMMARY:Ritmi americani: traduzione dello stile e stile della traduzione
DESCRIPTION:CONFERENZA CON RELATORE\nFranco NASI\nUniversità di Modena e Reggio Emilia \nPRENOTA IL TUO POSTO > QUI \n\nLOCANDINA
URL:https://www.collegioborromeo.it/event/ritmi-americani-traduzione-dello-stile-e-stile-della-traduzione/
CATEGORIES:Attività 2025_2026,Conferences,Conferences, Conventions and Seminars,Conferenze,Conferenze, Convegni e Seminari
ATTACH;FMTTYPE=image/jpeg:https://www.collegioborromeo.it/wp-content/uploads/2025/11/ritmi-americani-scaled.jpg
END:VEVENT
BEGIN:VEVENT
DTSTART;TZID=Europe/Helsinki:20251215T180000
DTEND;TZID=Europe/Helsinki:20251215T193000
DTSTAMP:20260425T185548
CREATED:20251124T131049Z
LAST-MODIFIED:20251124T131049Z
UID:10002086-1765821600-1765827000@www.collegioborromeo.it
SUMMARY:Istanti sull’orlo estremo della coscienza
DESCRIPTION:CONFERENZA CON LA PRESENTAZIONE DEL VOLUME\nStations / Stazioni\ndi Seamus HEANEY\n(Molesini Editore 2025) \nINTERVENGONO I CURATORI E TRADUTTORI\nLeonardo GUZZO\, Giorgia MERIGGI\, Marco SONZOGNI \nPRENOTA IL TUO POSTO> QUI \nEvento in collaborazione con  \n\nLOCANDINA
URL:https://www.collegioborromeo.it/event/istanti-sullorlo-estremo-della-coscienza/
CATEGORIES:Attività 2025_2026,Conferences,Conferences, Conventions and Seminars,Conferenze,Conferenze, Convegni e Seminari
ATTACH;FMTTYPE=image/jpeg:https://www.collegioborromeo.it/wp-content/uploads/2025/11/stazioni-scaled.jpg
END:VEVENT
BEGIN:VEVENT
DTSTART;TZID=Europe/Helsinki:20251217T110000
DTEND;TZID=Europe/Helsinki:20251217T130000
DTSTAMP:20260425T185548
CREATED:20251027T181026Z
LAST-MODIFIED:20251027T181026Z
UID:10002056-1765969200-1765976400@www.collegioborromeo.it
SUMMARY:Orizzonti di letteratura cristiana antica (V edizione)
DESCRIPTION:CICLO DI INCONTRI DI APPROFONDIMENTO DAL CORSO DI LETTERATURA CRISTIANA ANTICA \nIl ciclo di conferenze intende stimolare riflessioni su momenti nodali dello sviluppo della tradizione cristiana nell’Oriente greco e nell’Occidente latino e su opere e personalità di scrittori considerati particolarmente significativi in tale contesto\, mostrandone i caratteri peculiari sul versante letterario e su quello contenutistico. Le lezioni si inseriscono nell’ambito del corso di Letteratura cristiana antica\, promosso dal Collegio Borromeo e inserito nell’offerta formativa della Laurea magistrale in Antichità classiche e orientali dell’Università di Pavia. Il ciclo è organizzato con il patrocinio del Dipartimento di Studi umanistici dell’Università di Pavia e dell’Associazione Italiana di Cultura Classica – delegazione di Pavia “Domenico Magnino”.\nL’iniziativa è riconosciuta come attività di aggiornamento dei docenti della scuola secondaria di secondo grado (id. SOFIA: 101571). Gli incontri si svolgeranno in presenza e saranno trasmessi in streaming al link che sarà comunicato ai docenti iscritti che ne faranno richiesta. \nDOCENTE RESPONSABILE\nFabrizio BORDONE\, Università di Pavia \nPrenota il tuo posto> QUI \nAPPUNTAMENTI\nmartedì 18 novembre\, ore 11.00\nLa morale matrimoniale in Tertulliano\ncon Maria VERONESE\, Università di Padova \nmercoledì 26 novembre\, ore 11.00\nGuerra e pace in Agostino (Aug. civ. XIX)\ncon Paola Francesca MORETTI\, Università di Milano la Statale \nmartedì 2 dicembre\, ore 11.00\nLa dialettica tra chiarezza e oscurità della Scrittura alla luce dell’Apocalisse. Il Commento al Vangelo di Giovanni di Origene\ncon Luca ARCARI\, Università di Napoli “Federico II” \nmercoledì 17 dicembre ore 11.00\nLa poesia cristiana nella temperie storica\, politica e religiosa dell’Africa romana pre-costantiniana. Il caso di Commodiano\ncon Alberto D’INCÀ\, Facoltà Teologica dell’Italia settentrionale \n\nLOCANDINA \n  \n 
URL:https://www.collegioborromeo.it/event/orizzonti-di-letteratura-cristiana-antica-v-edizione/2025-12-17/
CATEGORIES:Attività 2025_2026,Conferences, Conventions and Seminars,Conferenze,Conferenze, Convegni e Seminari
ATTACH;FMTTYPE=image/jpeg:https://www.collegioborromeo.it/wp-content/uploads/2025/10/orizzonti-scaled.jpg
END:VEVENT
END:VCALENDAR