BEGIN:VCALENDAR
VERSION:2.0
PRODID:-//Collegio Borromeo - ECPv6.14.0//NONSGML v1.0//EN
CALSCALE:GREGORIAN
METHOD:PUBLISH
X-ORIGINAL-URL:https://www.collegioborromeo.it
X-WR-CALDESC:Eventi per Collegio Borromeo
REFRESH-INTERVAL;VALUE=DURATION:PT1H
X-Robots-Tag:noindex
X-PUBLISHED-TTL:PT1H
BEGIN:VTIMEZONE
TZID:Europe/Helsinki
BEGIN:DAYLIGHT
TZOFFSETFROM:+0200
TZOFFSETTO:+0300
TZNAME:EEST
DTSTART:20250330T010000
END:DAYLIGHT
BEGIN:STANDARD
TZOFFSETFROM:+0300
TZOFFSETTO:+0200
TZNAME:EET
DTSTART:20251026T010000
END:STANDARD
END:VTIMEZONE
BEGIN:VEVENT
DTSTART;TZID=Europe/Helsinki:20251103T210000
DTEND;TZID=Europe/Helsinki:20251103T223000
DTSTAMP:20260425T203603
CREATED:20251023T115359Z
LAST-MODIFIED:20251106T095109Z
UID:10002029-1762203600-1762209000@www.collegioborromeo.it
SUMMARY:FINZIONI. La capacità di immaginare mondi
DESCRIPTION:CICLO DI CONFERENZE A CURA DI\nSerena FELOJ e Luca VANZAGO\, Università di Pavia \nINCONTRI \nlunedì 3 novembre\nWhat if. La fine delle utopie e delle distopie\nGiacomo PAPI\, scrittore e giornalista con Luca VANZAGO e Serena FELOJ\, Università di Pavia \nmartedì 11 novembre \nLa forma che vive nelle immagini\nSilvana BORUTTI\, Università di Pavia \nmercoledì 26 novembre\nOntologia del far finta\nAchille VARZI\, Columbia University\nEVENTO A DISTANZA\, ISCRIZIONE WEBINAR > LINK \nmercoledì 3 dicembre\nTrump l’oeil\, o la morte della finzione?\nMauro CARBONE\, Università Jean Moulin Lyon 3 \nPrenota il tuo posto> LINK \n\nLOCANDINA
URL:https://www.collegioborromeo.it/event/finzioni-la-capacita-di-immaginare-mondi/2025-11-03/
CATEGORIES:Attività 2025_2026,Conferences,Conferences, Conventions and Seminars,Conferenze,Conferenze, Convegni e Seminari
ATTACH;FMTTYPE=image/jpeg:https://www.collegioborromeo.it/wp-content/uploads/2025/10/Finzioni-scaled.jpg
END:VEVENT
BEGIN:VEVENT
DTSTART;TZID=Europe/Helsinki:20251105T180000
DTEND;TZID=Europe/Helsinki:20251105T200000
DTSTAMP:20260425T203603
CREATED:20251023T112027Z
LAST-MODIFIED:20251106T091433Z
UID:10002028-1762365600-1762372800@www.collegioborromeo.it
SUMMARY:CARLO BORROMEO. Anatomia e paradigma di santità
DESCRIPTION:PRESENTAZIONE DEL VOLUME (Nomos Edizioni\, 2025) \nSALUTI ISTITUZIONALI\nAlberto LOLLI\, Rettore Almo Collegio Borromeo \nL’AUTORE\nRenzo DIONIGI\, Università dell’Insubria \nDIALOGA CON\nLodovico BORROMEO\, in rappresentanza del Patrono del Collegio\nFabio GASTI\, Università di Pavia\nAlberto ROCCA\, Veneranda Biblioteca Ambrosiana \nINGRESSO GRATUITO \n\nLOCANDINA
URL:https://www.collegioborromeo.it/event/carlo-borromeo-anatomia-e-paradigma-di-santita/
CATEGORIES:Attività 2025_2026,Conferences,Conferences, Conventions and Seminars,Conferenze, Convegni e Seminari
ATTACH;FMTTYPE=image/jpeg:https://www.collegioborromeo.it/wp-content/uploads/2025/10/dionigi-scaled.jpg
END:VEVENT
BEGIN:VEVENT
DTSTART;TZID=Europe/Helsinki:20251110T180000
DTEND;TZID=Europe/Helsinki:20251110T193000
DTSTAMP:20260425T203603
CREATED:20251029T173914Z
LAST-MODIFIED:20251029T173914Z
UID:10002057-1762797600-1762803000@www.collegioborromeo.it
SUMMARY:Piangere la memoria. Lamento funebre e culture medievali
DESCRIPTION:Evento promosso nell’ambito del ciclo Aggiornamenti di Storia Religiosa \nPRESENTAZIONE DEL VOLUME (Carocci Edizioni\, 2024) \nL’AUTORE\nAndrea GHIDONI\, Università degli Studi di Genova – Università di Pavia \nDIALOGA CON\nThomas FRANK\, Università di Pavia\nFederico SAVIOTTI\, Università di Pavia \nPrenota il tuo posto> QUI \n\nLOCANDINA
URL:https://www.collegioborromeo.it/event/piangere-la-memoria-lamento-funebre-e-culture-medievali/
CATEGORIES:Attività 2025_2026,Conferences,Conferences, Conventions and Seminars,Conferenze
ATTACH;FMTTYPE=image/jpeg:https://www.collegioborromeo.it/wp-content/uploads/2025/10/9788829024087.jpg
END:VEVENT
BEGIN:VEVENT
DTSTART;TZID=Europe/Helsinki:20251111T210000
DTEND;TZID=Europe/Helsinki:20251111T223000
DTSTAMP:20260425T203603
CREATED:20251023T115359Z
LAST-MODIFIED:20251106T095109Z
UID:10002030-1762894800-1762900200@www.collegioborromeo.it
SUMMARY:FINZIONI. La capacità di immaginare mondi
DESCRIPTION:CICLO DI CONFERENZE A CURA DI\nSerena FELOJ e Luca VANZAGO\, Università di Pavia \nINCONTRI \nlunedì 3 novembre\nWhat if. La fine delle utopie e delle distopie\nGiacomo PAPI\, scrittore e giornalista con Luca VANZAGO e Serena FELOJ\, Università di Pavia \nmartedì 11 novembre \nLa forma che vive nelle immagini\nSilvana BORUTTI\, Università di Pavia \nmercoledì 26 novembre\nOntologia del far finta\nAchille VARZI\, Columbia University\nEVENTO A DISTANZA\, ISCRIZIONE WEBINAR > LINK \nmercoledì 3 dicembre\nTrump l’oeil\, o la morte della finzione?\nMauro CARBONE\, Università Jean Moulin Lyon 3 \nPrenota il tuo posto> LINK \n\nLOCANDINA
URL:https://www.collegioborromeo.it/event/finzioni-la-capacita-di-immaginare-mondi/2025-11-11/
CATEGORIES:Attività 2025_2026,Conferences,Conferences, Conventions and Seminars,Conferenze,Conferenze, Convegni e Seminari
ATTACH;FMTTYPE=image/jpeg:https://www.collegioborromeo.it/wp-content/uploads/2025/10/Finzioni-scaled.jpg
END:VEVENT
BEGIN:VEVENT
DTSTART;TZID=Europe/Helsinki:20251112T170000
DTEND;TZID=Europe/Helsinki:20251112T190000
DTSTAMP:20260425T203603
CREATED:20251105T165425Z
LAST-MODIFIED:20251106T092320Z
UID:10002064-1762966800-1762974000@www.collegioborromeo.it
SUMMARY:Per Angelo Stella: borromaico
DESCRIPTION:Incontro con interventi e ricordi degli amici \nIn collaborazione con l‘Associazione alumni dell’Almo Collegio Borromeo. \nPrenota il tuo posto> QUI \n\nLOCANDINA
URL:https://www.collegioborromeo.it/event/per-angelo-stella-borromaico/
CATEGORIES:Attività 2025_2026,Conferences, Conventions and Seminars,Conferenze,Conferenze, Convegni e Seminari
ATTACH;FMTTYPE=image/jpeg:https://www.collegioborromeo.it/wp-content/uploads/2025/11/angelo-stella-scaled.jpg
END:VEVENT
BEGIN:VEVENT
DTSTART;TZID=Europe/Helsinki:20251118T110000
DTEND;TZID=Europe/Helsinki:20251118T130000
DTSTAMP:20260425T203603
CREATED:20251027T181026Z
LAST-MODIFIED:20251027T181026Z
UID:10002053-1763463600-1763470800@www.collegioborromeo.it
SUMMARY:Orizzonti di letteratura cristiana antica (V edizione)
DESCRIPTION:CICLO DI INCONTRI DI APPROFONDIMENTO DAL CORSO DI LETTERATURA CRISTIANA ANTICA \nIl ciclo di conferenze intende stimolare riflessioni su momenti nodali dello sviluppo della tradizione cristiana nell’Oriente greco e nell’Occidente latino e su opere e personalità di scrittori considerati particolarmente significativi in tale contesto\, mostrandone i caratteri peculiari sul versante letterario e su quello contenutistico. Le lezioni si inseriscono nell’ambito del corso di Letteratura cristiana antica\, promosso dal Collegio Borromeo e inserito nell’offerta formativa della Laurea magistrale in Antichità classiche e orientali dell’Università di Pavia. Il ciclo è organizzato con il patrocinio del Dipartimento di Studi umanistici dell’Università di Pavia e dell’Associazione Italiana di Cultura Classica – delegazione di Pavia “Domenico Magnino”.\nL’iniziativa è riconosciuta come attività di aggiornamento dei docenti della scuola secondaria di secondo grado (id. SOFIA: 101571). Gli incontri si svolgeranno in presenza e saranno trasmessi in streaming al link che sarà comunicato ai docenti iscritti che ne faranno richiesta. \nDOCENTE RESPONSABILE\nFabrizio BORDONE\, Università di Pavia \nPrenota il tuo posto> QUI \nAPPUNTAMENTI\nmartedì 18 novembre\, ore 11.00\nLa morale matrimoniale in Tertulliano\ncon Maria VERONESE\, Università di Padova \nmercoledì 26 novembre\, ore 11.00\nGuerra e pace in Agostino (Aug. civ. XIX)\ncon Paola Francesca MORETTI\, Università di Milano la Statale \nmartedì 2 dicembre\, ore 11.00\nLa dialettica tra chiarezza e oscurità della Scrittura alla luce dell’Apocalisse. Il Commento al Vangelo di Giovanni di Origene\ncon Luca ARCARI\, Università di Napoli “Federico II” \nmercoledì 17 dicembre ore 11.00\nLa poesia cristiana nella temperie storica\, politica e religiosa dell’Africa romana pre-costantiniana. Il caso di Commodiano\ncon Alberto D’INCÀ\, Facoltà Teologica dell’Italia settentrionale \n\nLOCANDINA \n  \n 
URL:https://www.collegioborromeo.it/event/orizzonti-di-letteratura-cristiana-antica-v-edizione/2025-11-18/
CATEGORIES:Attività 2025_2026,Conferences, Conventions and Seminars,Conferenze,Conferenze, Convegni e Seminari
ATTACH;FMTTYPE=image/jpeg:https://www.collegioborromeo.it/wp-content/uploads/2025/10/orizzonti-scaled.jpg
END:VEVENT
BEGIN:VEVENT
DTSTART;TZID=Europe/Helsinki:20251118T180000
DTEND;TZID=Europe/Helsinki:20251118T200000
DTSTAMP:20260425T203603
CREATED:20251105T172227Z
LAST-MODIFIED:20251107T113922Z
UID:10002065-1763488800-1763496000@www.collegioborromeo.it
SUMMARY:Orizzonti della ricerca biomedica (I incontro del ciclo)
DESCRIPTION:TITOLO DELL’INCONTRO \nPeptidi e proteine alogenate\nDa biomarcatori patologici a nuovi biomateriali funzionali \nRELATORE\nPierangelo METRANGOLO\, Politecnico di Milano \nPrenota il tuo posto > QUI \n\nLOCANDINA
URL:https://www.collegioborromeo.it/event/orizzonti-della-ricerca-biomedica-i-incontro-del-ciclo/
CATEGORIES:Attività 2025_2026,Conferences, Conventions and Seminars,Conferenze,Conferenze, Convegni e Seminari
ATTACH;FMTTYPE=image/jpeg:https://www.collegioborromeo.it/wp-content/uploads/2025/11/orizzonti-della-ricerca-I-scaled.jpg
END:VEVENT
BEGIN:VEVENT
DTSTART;TZID=Europe/Helsinki:20251119T170000
DTEND;TZID=Europe/Helsinki:20251119T190000
DTSTAMP:20260425T203603
CREATED:20251008T170946Z
LAST-MODIFIED:20251009T095114Z
UID:10001976-1763571600-1763578800@www.collegioborromeo.it
SUMMARY:“Che la vergogna cambi lato”: IL CASO DI GISÈLE PELICOT
DESCRIPTION:CONFERENZA CON INTERVENTI DI\nSofia BRASCHI\, Università di Pavia\nGian Marco CALETTI\, Università di Bologna \nEvento promosso in occasione della giornata internazionale per l’eliminazione della violenza contro le donne (martedì 25 novembre 2025).\nL’incontro è riconosciuto dalla Scuola IUSS quale attività formativa extra-ambito dei corsi ordinari. \nIngresso gratuito\, prenotazione consigliata > QUI \n\nLOCANDINA
URL:https://www.collegioborromeo.it/event/che-la-vergogna-cambi-lato-il-caso-di-gisele-pelicot/
CATEGORIES:Attività 2025_2026,Conferences, Conventions and Seminars,Conferenze,Conferenze, Convegni e Seminari
ATTACH;FMTTYPE=image/jpeg:https://www.collegioborromeo.it/wp-content/uploads/2025/10/che-la-vergogna-cambi-lato-scaled.jpg
END:VEVENT
BEGIN:VEVENT
DTSTART;TZID=Europe/Helsinki:20251119T210000
DTEND;TZID=Europe/Helsinki:20251119T223000
DTSTAMP:20260425T203603
CREATED:20251107T104940Z
LAST-MODIFIED:20251114T112941Z
UID:10002078-1763586000-1763591400@www.collegioborromeo.it
SUMMARY:Ginecologia Z
DESCRIPTION:Primo appuntamento del ciclo dal titolo Salute e dignità dopo la violenza: cure urgenti e protezione sociale. \nRELATORI \n Giussy BARBARA\, Università di Milano\, Responsabile del Soccorso Violenza Sessuale e Domestica (SVSeD) Fondazione IRCCS Ca’ Granda Ospedale Maggiore Policlinico Milano \nFrancesca SALVINI\, Psicologa\, Psicoterapeuta e Sessuologa Clinica Cooperativa LiberaMente Onlus – Percorsi di donne contro la violenza \nPrenota il tuo posto> QUI \n\nLOCANDINA
URL:https://www.collegioborromeo.it/event/ginecologia-z/
CATEGORIES:Attività 2025_2026,Conferences,Conferences, Conventions and Seminars,Conferenze,Conferenze, Convegni e Seminari
ATTACH;FMTTYPE=image/jpeg:https://www.collegioborromeo.it/wp-content/uploads/2025/11/Ginecologia-z-scaled.jpg
END:VEVENT
BEGIN:VEVENT
DTSTART;TZID=Europe/Helsinki:20251124T180000
DTEND;TZID=Europe/Helsinki:20251124T200000
DTSTAMP:20260425T203603
CREATED:20250922T175957Z
LAST-MODIFIED:20251114T105606Z
UID:10001958-1764007200-1764014400@www.collegioborromeo.it
SUMMARY:“Balzac”
DESCRIPTION:PRESENTAZIONE DEL VOLUME \nLaterza Edizioni\, 2025 \nL’AUTORE\nFrancesco FIORENTINO\, Università di Bari \nDIALOGA CON\nSerena CODENA\, Università di Pavia \nPrenota il tuo posto> QUI \n\nLOCANDINA
URL:https://www.collegioborromeo.it/event/balzac/
CATEGORIES:Attività 2025_2026,Conferences,Conferences, Conventions and Seminars,Conferenze,Conferenze, Convegni e Seminari
ATTACH;FMTTYPE=image/jpeg:https://www.collegioborromeo.it/wp-content/uploads/2025/09/balzac-scaled.jpg
END:VEVENT
BEGIN:VEVENT
DTSTART;TZID=Europe/Helsinki:20251126T110000
DTEND;TZID=Europe/Helsinki:20251126T130000
DTSTAMP:20260425T203603
CREATED:20251027T181026Z
LAST-MODIFIED:20251027T181026Z
UID:10002054-1764154800-1764162000@www.collegioborromeo.it
SUMMARY:Orizzonti di letteratura cristiana antica (V edizione)
DESCRIPTION:CICLO DI INCONTRI DI APPROFONDIMENTO DAL CORSO DI LETTERATURA CRISTIANA ANTICA \nIl ciclo di conferenze intende stimolare riflessioni su momenti nodali dello sviluppo della tradizione cristiana nell’Oriente greco e nell’Occidente latino e su opere e personalità di scrittori considerati particolarmente significativi in tale contesto\, mostrandone i caratteri peculiari sul versante letterario e su quello contenutistico. Le lezioni si inseriscono nell’ambito del corso di Letteratura cristiana antica\, promosso dal Collegio Borromeo e inserito nell’offerta formativa della Laurea magistrale in Antichità classiche e orientali dell’Università di Pavia. Il ciclo è organizzato con il patrocinio del Dipartimento di Studi umanistici dell’Università di Pavia e dell’Associazione Italiana di Cultura Classica – delegazione di Pavia “Domenico Magnino”.\nL’iniziativa è riconosciuta come attività di aggiornamento dei docenti della scuola secondaria di secondo grado (id. SOFIA: 101571). Gli incontri si svolgeranno in presenza e saranno trasmessi in streaming al link che sarà comunicato ai docenti iscritti che ne faranno richiesta. \nDOCENTE RESPONSABILE\nFabrizio BORDONE\, Università di Pavia \nPrenota il tuo posto> QUI \nAPPUNTAMENTI\nmartedì 18 novembre\, ore 11.00\nLa morale matrimoniale in Tertulliano\ncon Maria VERONESE\, Università di Padova \nmercoledì 26 novembre\, ore 11.00\nGuerra e pace in Agostino (Aug. civ. XIX)\ncon Paola Francesca MORETTI\, Università di Milano la Statale \nmartedì 2 dicembre\, ore 11.00\nLa dialettica tra chiarezza e oscurità della Scrittura alla luce dell’Apocalisse. Il Commento al Vangelo di Giovanni di Origene\ncon Luca ARCARI\, Università di Napoli “Federico II” \nmercoledì 17 dicembre ore 11.00\nLa poesia cristiana nella temperie storica\, politica e religiosa dell’Africa romana pre-costantiniana. Il caso di Commodiano\ncon Alberto D’INCÀ\, Facoltà Teologica dell’Italia settentrionale \n\nLOCANDINA \n  \n 
URL:https://www.collegioborromeo.it/event/orizzonti-di-letteratura-cristiana-antica-v-edizione/2025-11-26/
CATEGORIES:Attività 2025_2026,Conferences, Conventions and Seminars,Conferenze,Conferenze, Convegni e Seminari
ATTACH;FMTTYPE=image/jpeg:https://www.collegioborromeo.it/wp-content/uploads/2025/10/orizzonti-scaled.jpg
END:VEVENT
BEGIN:VEVENT
DTSTART;TZID=Europe/Helsinki:20251126T210000
DTEND;TZID=Europe/Helsinki:20251126T223000
DTSTAMP:20260425T203603
CREATED:20251023T115359Z
LAST-MODIFIED:20251106T095109Z
UID:10002031-1764190800-1764196200@www.collegioborromeo.it
SUMMARY:FINZIONI. La capacità di immaginare mondi
DESCRIPTION:CICLO DI CONFERENZE A CURA DI\nSerena FELOJ e Luca VANZAGO\, Università di Pavia \nINCONTRI \nlunedì 3 novembre\nWhat if. La fine delle utopie e delle distopie\nGiacomo PAPI\, scrittore e giornalista con Luca VANZAGO e Serena FELOJ\, Università di Pavia \nmartedì 11 novembre \nLa forma che vive nelle immagini\nSilvana BORUTTI\, Università di Pavia \nmercoledì 26 novembre\nOntologia del far finta\nAchille VARZI\, Columbia University\nEVENTO A DISTANZA\, ISCRIZIONE WEBINAR > LINK \nmercoledì 3 dicembre\nTrump l’oeil\, o la morte della finzione?\nMauro CARBONE\, Università Jean Moulin Lyon 3 \nPrenota il tuo posto> LINK \n\nLOCANDINA
URL:https://www.collegioborromeo.it/event/finzioni-la-capacita-di-immaginare-mondi/2025-11-26/
CATEGORIES:Attività 2025_2026,Conferences,Conferences, Conventions and Seminars,Conferenze,Conferenze, Convegni e Seminari
ATTACH;FMTTYPE=image/jpeg:https://www.collegioborromeo.it/wp-content/uploads/2025/10/Finzioni-scaled.jpg
END:VEVENT
BEGIN:VEVENT
DTSTART;TZID=Europe/Helsinki:20251127T180000
DTEND;TZID=Europe/Helsinki:20251127T200000
DTSTAMP:20260425T203603
CREATED:20251120T124749Z
LAST-MODIFIED:20260216T115944Z
UID:10002081-1764266400-1764273600@www.collegioborromeo.it
SUMMARY:INDIVISIBILI\, l’essenza dei diritti umani. A civic skill
DESCRIPTION:Attività formativa del progetto COLLEGIALE NON RESIDENTE \nLaboratorio sulle competenze trasversali Open Badge aperto a tutti gli studenti dei corsi di laurea triennale e magistrale dell’Università di Pavia. L’open badge è riconosciuto previa validazione della frequenza ad almeno il 75% delle lezioni previste partecipando attivamente a discussioni e attività laboratoriali. \nISCRIVITI AL CORSO > QUI \nDOCENTE\nAlessandra BALLERINI\, Avvocata civilista specializzata in diritti umani e immigrazione\n \n“I diritti umani sono indivisibili\, interdipendenti e correlati.\nQuesto significa che i diversi diritti umani sono intrinsecamente connessi così come le persone. I diritti fondamentali dell’individuo o valgono per tutti o non valgono per nessuno. Creare una ferita in un qualsiasi diritto umano\, accettare che venga calpestato ai danni di qualsiasi persona\, vuol dire rendere quel diritto più\ndebole. La magia dei diritti umani è questa: quando difendi quelli di una persona\, difendi quelli di tutti\, anche i tuoi. In questo contesto l’esperienza maturata nell’ambito della tutela dei diritti da parte dell’avv. Ballerini\, anche nella drammatica storia di Giulio Regeni\, consente di lavorare sulle competenze trasversali come le capacità che permettono al cittadino di agire consapevolmente in un contesto sociale profondamente complesso e che consenta di partecipare responsabilmente alla vita civica.” \nLEZIONI \ngiovedì 27 novembre 2025\, ore 18.00 \nvenerdì 28 novembre 2025\, ore 15.30 > A CAUSA DELLO SCOPERO RINVIATA AL 10/12/2025 \ngiovedì 15 gennaio 2026\, ore 17.00 \nvenerdì 16 gennaio 2026\, ore 14.30 > LEZIONE RINVIATA AL 26/02/2025 \n\nLOCANDINA
URL:https://www.collegioborromeo.it/event/indivisibili-lessenza-dei-diritti-umani-a-civic-skill/2025-11-27/
CATEGORIES:Attività 2025_2026,Attività formativa del progetto COLLEGIALE NON RESIDENTE,CNR,Conferences,Conferences, Conventions and Seminars,Conferenze,Conferenze, Convegni e Seminari
ATTACH;FMTTYPE=image/png:https://www.collegioborromeo.it/wp-content/uploads/2025/11/Screenshot-2025-11-12-alle-00.28.32.png
END:VEVENT
BEGIN:VEVENT
DTSTART;TZID=Europe/Helsinki:20251128T153000
DTEND;TZID=Europe/Helsinki:20251128T183000
DTSTAMP:20260425T203603
CREATED:20251120T124749Z
LAST-MODIFIED:20260216T115944Z
UID:10002082-1764343800-1764354600@www.collegioborromeo.it
SUMMARY:INDIVISIBILI\, l’essenza dei diritti umani. A civic skill
DESCRIPTION:Attività formativa del progetto COLLEGIALE NON RESIDENTE \nLaboratorio sulle competenze trasversali Open Badge aperto a tutti gli studenti dei corsi di laurea triennale e magistrale dell’Università di Pavia. L’open badge è riconosciuto previa validazione della frequenza ad almeno il 75% delle lezioni previste partecipando attivamente a discussioni e attività laboratoriali. \nISCRIVITI AL CORSO > QUI \nDOCENTE\nAlessandra BALLERINI\, Avvocata civilista specializzata in diritti umani e immigrazione\n \n“I diritti umani sono indivisibili\, interdipendenti e correlati.\nQuesto significa che i diversi diritti umani sono intrinsecamente connessi così come le persone. I diritti fondamentali dell’individuo o valgono per tutti o non valgono per nessuno. Creare una ferita in un qualsiasi diritto umano\, accettare che venga calpestato ai danni di qualsiasi persona\, vuol dire rendere quel diritto più\ndebole. La magia dei diritti umani è questa: quando difendi quelli di una persona\, difendi quelli di tutti\, anche i tuoi. In questo contesto l’esperienza maturata nell’ambito della tutela dei diritti da parte dell’avv. Ballerini\, anche nella drammatica storia di Giulio Regeni\, consente di lavorare sulle competenze trasversali come le capacità che permettono al cittadino di agire consapevolmente in un contesto sociale profondamente complesso e che consenta di partecipare responsabilmente alla vita civica.” \nLEZIONI \ngiovedì 27 novembre 2025\, ore 18.00 \nvenerdì 28 novembre 2025\, ore 15.30 > A CAUSA DELLO SCOPERO RINVIATA AL 10/12/2025 \ngiovedì 15 gennaio 2026\, ore 17.00 \nvenerdì 16 gennaio 2026\, ore 14.30 > LEZIONE RINVIATA AL 26/02/2025 \n\nLOCANDINA
URL:https://www.collegioborromeo.it/event/indivisibili-lessenza-dei-diritti-umani-a-civic-skill/2025-11-28/
CATEGORIES:Attività 2025_2026,Attività formativa del progetto COLLEGIALE NON RESIDENTE,CNR,Conferences,Conferences, Conventions and Seminars,Conferenze,Conferenze, Convegni e Seminari
ATTACH;FMTTYPE=image/png:https://www.collegioborromeo.it/wp-content/uploads/2025/11/Screenshot-2025-11-12-alle-00.28.32.png
END:VEVENT
END:VCALENDAR