BEGIN:VCALENDAR
VERSION:2.0
PRODID:-//Collegio Borromeo - ECPv6.14.0//NONSGML v1.0//EN
CALSCALE:GREGORIAN
METHOD:PUBLISH
X-WR-CALNAME:Collegio Borromeo
X-ORIGINAL-URL:https://www.collegioborromeo.it
X-WR-CALDESC:Eventi per Collegio Borromeo
REFRESH-INTERVAL;VALUE=DURATION:PT1H
X-Robots-Tag:noindex
X-PUBLISHED-TTL:PT1H
BEGIN:VTIMEZONE
TZID:Europe/Helsinki
BEGIN:DAYLIGHT
TZOFFSETFROM:+0200
TZOFFSETTO:+0300
TZNAME:EEST
DTSTART:20250330T010000
END:DAYLIGHT
BEGIN:STANDARD
TZOFFSETFROM:+0300
TZOFFSETTO:+0200
TZNAME:EET
DTSTART:20251026T010000
END:STANDARD
END:VTIMEZONE
BEGIN:VEVENT
DTSTART;TZID=Europe/Helsinki:20251009T210000
DTEND;TZID=Europe/Helsinki:20251009T223000
DTSTAMP:20260425T220711
CREATED:20250916T154247Z
LAST-MODIFIED:20250930T090206Z
UID:10001954-1760043600-1760049000@www.collegioborromeo.it
SUMMARY:IL FASCINO DELLA FISICA
DESCRIPTION:INCONTRI IN PRESENZA \nRELATORE\nGiorgio CHINNICI\, Fisico e scrittore \nA CURA DI\nGianluca INTROZZI\, Università di Pavia \n\nGiovedì 9 ottobre 2025\, ore 21.00\nDAI QUARK AL BOSONE DI HIGGS. Un viaggio nei recessi della materia  \nGiovedì 16 ottobre 2025\, ore 21.00\nIL TEMPO FERMO. Relatività\, simmetria e buchi neri \nGiovedì 23 ottobre 2025\, ore 21.00\nCOSMOLOGIA E BIG BANG. Com’è nato e come si è strutturato l’Universo \nPRENOTA IL TUO POSTO > QUI \n\nLOCANDINA
URL:https://www.collegioborromeo.it/event/il-fascino-della-fisica/2025-10-09/
CATEGORIES:Attività 2025_2026,Conferences,Conferences, Conventions and Seminars,Conferenze,Conferenze, Convegni e Seminari
ATTACH;FMTTYPE=image/jpeg:https://www.collegioborromeo.it/wp-content/uploads/2025/09/il-fascino-della-fisica-scaled.jpg
END:VEVENT
BEGIN:VEVENT
DTSTART;TZID=Europe/Helsinki:20251013T180000
DTEND;TZID=Europe/Helsinki:20251013T193000
DTSTAMP:20260425T220711
CREATED:20251003T103702Z
LAST-MODIFIED:20251003T105216Z
UID:10001972-1760378400-1760383800@www.collegioborromeo.it
SUMMARY:Casella Prize 2025
DESCRIPTION:LECTIO MAGISTRALIS \nHow does the history of science tell us we should proceed to understand the relationship between the structure and the function of the nervous system?\n \nLecture in English by James Mason BOWER\, Affiliate Professor of Biology at Southern Oregon University \n50 years ago\, Dr Bower began his study of the nervous system with anatomic experiments involving somatosensory systems in the mammalian brain.  Much of his efforts since have involved attempts to understand how the structure of the mammalian cerebellum reflects its computational function using an interacting combination of anatomical and physiological studies coordinated by the use of computer models.  50 years ago\, the cerebellum was believed to be involved exclusively in motor coordination\, balance and posture\, and perhaps motor learning.  Today due largely to the use of fMRI\, claims have been made that the cerebellum is also involved in attention\, memory\, emotional regulation\, sleep\, stress\, thirst\, hyperactivity\, psychosis\, schizophrenia\, autism\, epilepsy\, urinary tract function\, mutism\, and language acquisition\, a list that is continuing to grow.  Summarizing these results\, Guell and Schmahmann (2020) have stated that the cerebellum is now likely  “relevant to virtually all aspects of behavior in health and disease”.   While this statement may be consistent with the fMRI observations\, it poses serious computational challenges given the cerebellum’s remarkably uniform neuronal structure.  50 years ago\, Dr Bower also taught for the first time a course tracing how humans have figured out the larger structure of the universe\, inventing modern science in the process.   In this presentation\, after summarizing recent fMRI results\, and briefly discussing how and to what extent attempts have been made to accommodate those results to the structure of the cerebellum\,  Dr. Bower will consider how the resolution of a conundrum involving the structure of the solar system in the 15th and 16th centuries suggests studies of the cerebellum and the nervous system in general should now proceed. \nL’incontro è riconosciuto dalla Scuola IUSS quale attività formativa extra-ambito dei Corsi ordinari. \nIngresso gratuito\, prenotazione consigliata> QUI \n\nLOCANDINA
URL:https://www.collegioborromeo.it/event/casella-prize-2025/
CATEGORIES:Attività 2025_2026,Conferences,Conferences, Conventions and Seminars,Conferenze,Conferenze, Convegni e Seminari
ATTACH;FMTTYPE=image/png:https://www.collegioborromeo.it/wp-content/uploads/2025/10/False-color-representation-of-membrane-potential-and-Ca-2-concentration-during-a-20.png
END:VEVENT
BEGIN:VEVENT
DTSTART;TZID=Europe/Helsinki:20251016T210000
DTEND;TZID=Europe/Helsinki:20251016T223000
DTSTAMP:20260425T220711
CREATED:20250916T154247Z
LAST-MODIFIED:20250930T090206Z
UID:10001955-1760648400-1760653800@www.collegioborromeo.it
SUMMARY:IL FASCINO DELLA FISICA
DESCRIPTION:INCONTRI IN PRESENZA \nRELATORE\nGiorgio CHINNICI\, Fisico e scrittore \nA CURA DI\nGianluca INTROZZI\, Università di Pavia \n\nGiovedì 9 ottobre 2025\, ore 21.00\nDAI QUARK AL BOSONE DI HIGGS. Un viaggio nei recessi della materia  \nGiovedì 16 ottobre 2025\, ore 21.00\nIL TEMPO FERMO. Relatività\, simmetria e buchi neri \nGiovedì 23 ottobre 2025\, ore 21.00\nCOSMOLOGIA E BIG BANG. Com’è nato e come si è strutturato l’Universo \nPRENOTA IL TUO POSTO > QUI \n\nLOCANDINA
URL:https://www.collegioborromeo.it/event/il-fascino-della-fisica/2025-10-16/
CATEGORIES:Attività 2025_2026,Conferences,Conferences, Conventions and Seminars,Conferenze,Conferenze, Convegni e Seminari
ATTACH;FMTTYPE=image/jpeg:https://www.collegioborromeo.it/wp-content/uploads/2025/09/il-fascino-della-fisica-scaled.jpg
END:VEVENT
BEGIN:VEVENT
DTSTART;TZID=Europe/Helsinki:20251017T180000
DTEND;TZID=Europe/Helsinki:20251017T193000
DTSTAMP:20260425T220711
CREATED:20251007T102644Z
LAST-MODIFIED:20251007T174000Z
UID:10001974-1760724000-1760729400@www.collegioborromeo.it
SUMMARY:SEPARAZIONE DELLE CARRIERE. Tra riforma costituzionale e referendum in arrivo
DESCRIPTION:RELATORI\nArmando SPATARO\, già Magistrato e Procuratore della Repubblica\nRinaldo ROMANELLI\, Avvocato del Foro di Genova – Segretario dell’Unione delle Camere Penali Italiane \nINTRODUCE E MODERA\nAndrea GRATTERI\, Università di Pavia \nIngresso gratuito\, prenotazione consigliata > QUI  \n\nLOCANDINA \n 
URL:https://www.collegioborromeo.it/event/separazione-delle-carriere-tra-riforma-costituzionale-e-referendum-in-arrivo/
CATEGORIES:Attività 2025_2026,Conferences,Conferences, Conventions and Seminars,Conferenze,Conferenze, Convegni e Seminari
ATTACH;FMTTYPE=image/jpeg:https://www.collegioborromeo.it/wp-content/uploads/2025/10/separazione-delle-camere-scaled.jpg
END:VEVENT
BEGIN:VEVENT
DTSTART;TZID=Europe/Helsinki:20251021T160000
DTEND;TZID=Europe/Helsinki:20251021T190000
DTSTAMP:20260425T220711
CREATED:20251010T121209Z
LAST-MODIFIED:20251017T100731Z
UID:10001977-1761062400-1761073200@www.collegioborromeo.it
SUMMARY:La vita in tempo di bit: FRANCESCO PECORARO
DESCRIPTION:Scrittura Lingua Archivio\nCONFERENZA \nore 16.00: Saluti istituzionali\nGiuseppe ANTONELLI\, Presidente del Centro Manoscritti dell’Università di Pavia \nTra ipotassi e romanesco light: primi sondaggi sulla lingua\nEmiliano CERESI\, Università di Palermo \nUn “parcheggio testi”: itinerari nell’archivio digitale\nAnna GUADAGNOLI\, Università di Pavia \nore 17.00: Pausa caffé \nore 17.30: “Io nasco come scrittore digitale”\nFrancesco PECORARO\nIN DIALOGO CON\nEmmanuela CARBÈ\, Università di Venezia \nCOORDINA\nFederico FRANCUCCI\, Università di Pavia \nPrenota il tuo posto > QUI \n\nLOCANDINA
URL:https://www.collegioborromeo.it/event/la-vita-in-tempo-di-bit-francesco-pecoraro/
CATEGORIES:Attività 2025_2026,Conferences, Conventions and Seminars,Conferenze,Conferenze, Convegni e Seminari
ATTACH;FMTTYPE=image/jpeg:https://www.collegioborromeo.it/wp-content/uploads/2025/10/la-vita-in-tempo-di-bit-1-scaled.jpg
END:VEVENT
BEGIN:VEVENT
DTSTART;TZID=Europe/Helsinki:20251023T210000
DTEND;TZID=Europe/Helsinki:20251023T223000
DTSTAMP:20260425T220711
CREATED:20250916T154247Z
LAST-MODIFIED:20250930T090206Z
UID:10001956-1761253200-1761258600@www.collegioborromeo.it
SUMMARY:IL FASCINO DELLA FISICA
DESCRIPTION:INCONTRI IN PRESENZA \nRELATORE\nGiorgio CHINNICI\, Fisico e scrittore \nA CURA DI\nGianluca INTROZZI\, Università di Pavia \n\nGiovedì 9 ottobre 2025\, ore 21.00\nDAI QUARK AL BOSONE DI HIGGS. Un viaggio nei recessi della materia  \nGiovedì 16 ottobre 2025\, ore 21.00\nIL TEMPO FERMO. Relatività\, simmetria e buchi neri \nGiovedì 23 ottobre 2025\, ore 21.00\nCOSMOLOGIA E BIG BANG. Com’è nato e come si è strutturato l’Universo \nPRENOTA IL TUO POSTO > QUI \n\nLOCANDINA
URL:https://www.collegioborromeo.it/event/il-fascino-della-fisica/2025-10-23/
CATEGORIES:Attività 2025_2026,Conferences,Conferences, Conventions and Seminars,Conferenze,Conferenze, Convegni e Seminari
ATTACH;FMTTYPE=image/jpeg:https://www.collegioborromeo.it/wp-content/uploads/2025/09/il-fascino-della-fisica-scaled.jpg
END:VEVENT
END:VCALENDAR