BEGIN:VCALENDAR
VERSION:2.0
PRODID:-//Collegio Borromeo - ECPv6.14.0//NONSGML v1.0//EN
CALSCALE:GREGORIAN
METHOD:PUBLISH
X-ORIGINAL-URL:https://www.collegioborromeo.it
X-WR-CALDESC:Eventi per Collegio Borromeo
REFRESH-INTERVAL;VALUE=DURATION:PT1H
X-Robots-Tag:noindex
X-PUBLISHED-TTL:PT1H
BEGIN:VTIMEZONE
TZID:Europe/Paris
BEGIN:DAYLIGHT
TZOFFSETFROM:+0100
TZOFFSETTO:+0200
TZNAME:CEST
DTSTART:20250330T010000
END:DAYLIGHT
BEGIN:STANDARD
TZOFFSETFROM:+0200
TZOFFSETTO:+0100
TZNAME:CET
DTSTART:20251026T010000
END:STANDARD
END:VTIMEZONE
BEGIN:VEVENT
DTSTART;TZID=Europe/Paris:20250509T140000
DTEND;TZID=Europe/Paris:20250509T170000
DTSTAMP:20260426T060605
CREATED:20250314T103904Z
LAST-MODIFIED:20250314T103904Z
UID:10001491-1746799200-1746810000@www.collegioborromeo.it
SUMMARY:Minima Naturalia. UN LESSICO PER LE ENVIRONMENTAL HUMANITIES
DESCRIPTION:ORGANIZZATO DAL GRUPPO DI RICERCA NATURALIA:\nMatteo DI TULLIO\, Lorenzo DONGHI\, Serena FELOJ\, Federico FRANCUCCI\, Elisabetta MODENA\, Cecilia MURATORI\, Luca STEFANELLI \nSEGUI SU ZOOM QUI\, ORE 14.00 \n\nAPPUNTAMENTI \nvenerdì 21 marzo 2025\nAMBIENTE: Marco ARMIERO\, Università Autonoma di Barcellona; Denis BROTTO\, Università di Padova; Elena CASETTA\, Università degli studi di Torino\nCLIMA: Elena CASETTA\, Università degli studi di Torino; Matteo DI TULLIO\, Università di Pavia \ngiovedì 17 aprile 2025\nANTROPOCENE: Denis BROTTO\, Università di Padova; Martino FAGNANI\, Università di Pavia; Serena FELOJ\, Università di Pavia\nANIMALE: Felice CIMATTI\, Università della Calabria; Martino FAGNANI\, Università di Pavia; Federico FRANCUCCI\, Università di Pavia \nvenerdì 9 maggio 2025\nATTIVISMO: Marco ARMIERO\, Università Autonoma di Barcellona; Cristina BALDACCI\, Università Ca’ Foscari (Venezia); Xenia CHIARAMONTE\, Università Ca’ Foscari (Venezia )\nBIODIVERSITÀ: Cristina BALDACCI\, Università Ca’ Foscari (Venezia); Xenia CHIARAMONTE\, Università Ca’ Foscari (Venezia); Katia OCCHI\, Fondazione Bruno Kessler \n\nLOCANDINA
URL:https://www.collegioborromeo.it/event/minima-naturalia-un-lessico-per-le-environmental-humanities/2025-05-09/
CATEGORIES:Attività 2024_2025,Conferences,Conferences, Conventions and Seminars,Conferenze,Conferenze, Convegni e Seminari
ATTACH;FMTTYPE=image/jpeg:https://www.collegioborromeo.it/wp-content/uploads/2025/03/Minima-Naturalia-25-scaled.jpg
END:VEVENT
BEGIN:VEVENT
DTSTART;TZID=Europe/Paris:20250520T100000
DTEND;TZID=Europe/Paris:20250520T193000
DTSTAMP:20260426T060605
CREATED:20250509T104311Z
LAST-MODIFIED:20250515T083450Z
UID:10001802-1747735200-1747769400@www.collegioborromeo.it
SUMMARY:NOSTALGICO UTOPICO FUTURO. Environmental Humanities dentro la catastrofe
DESCRIPTION:GIORNATA DI STUDI \nORGANIZZATA DA NATURALIA – PAVIA RESEARCH GROUP IN ENVIRONMENTAL HUMANITIES\nMatteo DI TULLIO\, Lorenzo DONGHI\, Serena FELOJ\, Federico FRANCUCCI\, Elisabetta MODENA\, Cecilia MURATORI\, Luca STEFANELLI\nNaturalia. Pavia Research Group in Environmental Humanities \n>PRENOTA IL TUO POSTO< \nATTIVITÀ DIDATTICA INTEGRATIVA\nnell’ambito del Corso di Dottorato in Humanities\, Technology and Society promosso in forma associata da Università di Modena e Reggio Emilia\, Fondazione Collegio San Carlo di Modena e Almo Collegio Borromeo \n10.00   Accoglienza e Saluti iniziali\n10.30   Introduzione\nAlberto LOLLI\, Rettore dell’Almo Collegio Borromeo\nLuca VANZAGO\, Università di Pavia \n11.00   Diluvio. Narrazioni apocalittiche e politiche dell’imbarco\nDaniel BORSELLI\, Università degli Studi di Firenze\nINTRODUCE E MODERA Elisabetta MODENA\, Università IULM \n12.00  L’illuminismo di specie nell’epoca delle catastrofi\nPaolo FURIA\, Università di Torino\nINTRODUCE E MODERA Serena FELOJ\, Università di Pavia \n14.30   La necessità di uno sguardo. Regimi mediali e visuali della catastrofe in Italia\nAngela MAIELLO\, Università della Calabria\nINTRODUCE E MODERA Lorenzo DONGHI\, Università di Pavia \n15.30   Rappresentare la catastrofe: discorsi\, immagini e pratiche sociali in età moderna\nGennaro SCHIANO – Domenico CECERE\,\nUniversità degli Studi di Napoli Federico II\nINTRODUCE E MODERA Matteo DI TULLIO\, Università di Pavia \n16.30   Pausa caffè\n17.30   Raccontare catastrofi(camente). Quali storie ci aiutano a (soprav)vivere?\nFederico FRANCUCCI\, Università di Pavia\nINTRODUCE E MODERA Luca STEFANELLI\, Università di Pavia \n18.30   Utopia e distopia: la città ideale in 3D e la storia filosofica dell’ecologia\nCecilia MURATORI\, Università di Pavia\n19.30   Antropocena \n\nLOCANDINA
URL:https://www.collegioborromeo.it/event/nostalgico-utopico-futuro-environmental-humanities-dentro-la-catastrofe/
CATEGORIES:Attività 2024_2025,Conferences, Conventions and Seminars,Conferenze,Conferenze, Convegni e Seminari,Convegni
ATTACH;FMTTYPE=image/jpeg:https://www.collegioborromeo.it/wp-content/uploads/2025/05/NOSTALGICO-UTOPICO-FUTURO_minima-naturalia-ig-scaled.jpg
END:VEVENT
BEGIN:VEVENT
DTSTART;TZID=Europe/Paris:20250521T210000
DTEND;TZID=Europe/Paris:20250521T230000
DTSTAMP:20260426T060605
CREATED:20250515T083912Z
LAST-MODIFIED:20250515T083912Z
UID:10001804-1747861200-1747868400@www.collegioborromeo.it
SUMMARY:MECCANISMI MOLECOLARI DELLA DIVISIONE CELLULARE ASIMMETRICA. Dove la biologia molecolare incontra la medicina
DESCRIPTION:CONFERENZA con relatori:\nFederico FORNERIS\, Università di Pavia\nMarina MAPELLI\, European Institute of Oncology \nPRENOTA IL TUO POSTO \n\nLOCANDINA
URL:https://www.collegioborromeo.it/event/meccanismi-molecolari-della-divisione-cellulare-asimmetrica-dove-la-biologia-molecolare-incontra-la-medicina/
CATEGORIES:Attività 2024_2025,Conferences,Conferences, Conventions and Seminars,Conferenze,Conferenze, Convegni e Seminari
ATTACH;FMTTYPE=image/jpeg:https://www.collegioborromeo.it/wp-content/uploads/2025/01/MECCANISMI-MOLECOLARI-scaled.jpg
END:VEVENT
BEGIN:VEVENT
DTSTART;TZID=Europe/Paris:20250526T180000
DTEND;TZID=Europe/Paris:20250526T200000
DTSTAMP:20260426T060605
CREATED:20250508T100531Z
LAST-MODIFIED:20250508T100531Z
UID:10001798-1748282400-1748289600@www.collegioborromeo.it
SUMMARY:Ciclo di lezioni nell'ambito del corso di Letteratura greca 2
DESCRIPTION:Le lezioni si terranno in lingua inglese. \nPRENOTA IL TUO POSTO \nCICLO DI INCONTRI CON \nPatrick J. FINGLASS\, Henry Overton Wills Professor of Greek\, University of Bristol (UK) \nlunedì 26 maggio 2025\, ore 18.00\nEuripides restored: new papyri and a new chronology\nPresso: Almo Collegio Borromeo \nmartedì 27 maggio 2025\, ore 15.00\nThe ancient edition of Sappho\nPresso: Università di Pavia\, Palazzo San Tommaso – Aula Bottigella \nmercoledì 28 maggio 2025\, ore 15.00\nThe ancient edition of Alcaeus\nPresso: Università di Pavia\, Palazzo San Tommaso – Aula Bottigella \ngiovedì 29 maggio 2025\, ore 15.00\nThe ancient edition of Pindar\nPresso: Almo Collegio Borromeo \nDOCENTE RESPONSABILE\nVirginia MASTELLARI\, Università di Pavia (virginia.mastellari@unipv.it) \n\nLOCANDINA
URL:https://www.collegioborromeo.it/event/ciclo-di-lezioni-nellambito-del-corso-di-letteratura-greca-2_2025/2025-05-26/
CATEGORIES:Attività 2024_2025,Conferences,Conferences, Conventions and Seminars,Conferenze,Conferenze, Convegni e Seminari
ATTACH;FMTTYPE=image/jpeg:https://www.collegioborromeo.it/wp-content/uploads/2025/05/FINGLASS-scaled.jpg
END:VEVENT
BEGIN:VEVENT
DTSTART;TZID=Europe/Paris:20250527T150000
DTEND;TZID=Europe/Paris:20250527T170000
DTSTAMP:20260426T060605
CREATED:20250508T100531Z
LAST-MODIFIED:20250508T100531Z
UID:10001799-1748358000-1748365200@www.collegioborromeo.it
SUMMARY:Ciclo di lezioni nell'ambito del corso di Letteratura greca 2
DESCRIPTION:Le lezioni si terranno in lingua inglese. \nPRENOTA IL TUO POSTO \nCICLO DI INCONTRI CON \nPatrick J. FINGLASS\, Henry Overton Wills Professor of Greek\, University of Bristol (UK) \nlunedì 26 maggio 2025\, ore 18.00\nEuripides restored: new papyri and a new chronology\nPresso: Almo Collegio Borromeo \nmartedì 27 maggio 2025\, ore 15.00\nThe ancient edition of Sappho\nPresso: Università di Pavia\, Palazzo San Tommaso – Aula Bottigella \nmercoledì 28 maggio 2025\, ore 15.00\nThe ancient edition of Alcaeus\nPresso: Università di Pavia\, Palazzo San Tommaso – Aula Bottigella \ngiovedì 29 maggio 2025\, ore 15.00\nThe ancient edition of Pindar\nPresso: Almo Collegio Borromeo \nDOCENTE RESPONSABILE\nVirginia MASTELLARI\, Università di Pavia (virginia.mastellari@unipv.it) \n\nLOCANDINA
URL:https://www.collegioborromeo.it/event/ciclo-di-lezioni-nellambito-del-corso-di-letteratura-greca-2_2025/2025-05-27/
CATEGORIES:Attività 2024_2025,Conferences,Conferences, Conventions and Seminars,Conferenze,Conferenze, Convegni e Seminari
ATTACH;FMTTYPE=image/jpeg:https://www.collegioborromeo.it/wp-content/uploads/2025/05/FINGLASS-scaled.jpg
END:VEVENT
BEGIN:VEVENT
DTSTART;TZID=Europe/Paris:20250528T150000
DTEND;TZID=Europe/Paris:20250528T170000
DTSTAMP:20260426T060605
CREATED:20250508T100531Z
LAST-MODIFIED:20250508T100531Z
UID:10001800-1748444400-1748451600@www.collegioborromeo.it
SUMMARY:Ciclo di lezioni nell'ambito del corso di Letteratura greca 2
DESCRIPTION:Le lezioni si terranno in lingua inglese. \nPRENOTA IL TUO POSTO \nCICLO DI INCONTRI CON \nPatrick J. FINGLASS\, Henry Overton Wills Professor of Greek\, University of Bristol (UK) \nlunedì 26 maggio 2025\, ore 18.00\nEuripides restored: new papyri and a new chronology\nPresso: Almo Collegio Borromeo \nmartedì 27 maggio 2025\, ore 15.00\nThe ancient edition of Sappho\nPresso: Università di Pavia\, Palazzo San Tommaso – Aula Bottigella \nmercoledì 28 maggio 2025\, ore 15.00\nThe ancient edition of Alcaeus\nPresso: Università di Pavia\, Palazzo San Tommaso – Aula Bottigella \ngiovedì 29 maggio 2025\, ore 15.00\nThe ancient edition of Pindar\nPresso: Almo Collegio Borromeo \nDOCENTE RESPONSABILE\nVirginia MASTELLARI\, Università di Pavia (virginia.mastellari@unipv.it) \n\nLOCANDINA
URL:https://www.collegioborromeo.it/event/ciclo-di-lezioni-nellambito-del-corso-di-letteratura-greca-2_2025/2025-05-28/
CATEGORIES:Attività 2024_2025,Conferences,Conferences, Conventions and Seminars,Conferenze,Conferenze, Convegni e Seminari
ATTACH;FMTTYPE=image/jpeg:https://www.collegioborromeo.it/wp-content/uploads/2025/05/FINGLASS-scaled.jpg
END:VEVENT
BEGIN:VEVENT
DTSTART;TZID=Europe/Paris:20250528T180000
DTEND;TZID=Europe/Paris:20250528T200000
DTSTAMP:20260426T060605
CREATED:20250515T085305Z
LAST-MODIFIED:20250516T153130Z
UID:10001805-1748455200-1748462400@www.collegioborromeo.it
SUMMARY:APOLOGIA DELLA STORIA o Mestiere di storico
DESCRIPTION:di Marc BLOCH (ed. Feltrinelli\, 2024) \nIl curatore\nMassimo MASTROGREGORI \nNE DISCUTE CON\nFrancesco MORES\, Università degli Studi di Milano\nFrancesco TORCHIANI\, Università degli Studi di Pavia \nINGRESSO LIBERO \n\nLOCANDINA
URL:https://www.collegioborromeo.it/event/apologia-della-storia-o-mestiere-di-storico/
CATEGORIES:Attività 2024_2025,Conferences,Conferences, Conventions and Seminars,Conferenze,Conferenze, Convegni e Seminari
ATTACH;FMTTYPE=image/jpeg:https://www.collegioborromeo.it/wp-content/uploads/2025/05/Apologia-della-storia-scaled.jpg
END:VEVENT
BEGIN:VEVENT
DTSTART;TZID=Europe/Paris:20250529T150000
DTEND;TZID=Europe/Paris:20250529T170000
DTSTAMP:20260426T060605
CREATED:20250508T100531Z
LAST-MODIFIED:20250508T100531Z
UID:10001801-1748530800-1748538000@www.collegioborromeo.it
SUMMARY:Ciclo di lezioni nell'ambito del corso di Letteratura greca 2
DESCRIPTION:Le lezioni si terranno in lingua inglese. \nPRENOTA IL TUO POSTO \nCICLO DI INCONTRI CON \nPatrick J. FINGLASS\, Henry Overton Wills Professor of Greek\, University of Bristol (UK) \nlunedì 26 maggio 2025\, ore 18.00\nEuripides restored: new papyri and a new chronology\nPresso: Almo Collegio Borromeo \nmartedì 27 maggio 2025\, ore 15.00\nThe ancient edition of Sappho\nPresso: Università di Pavia\, Palazzo San Tommaso – Aula Bottigella \nmercoledì 28 maggio 2025\, ore 15.00\nThe ancient edition of Alcaeus\nPresso: Università di Pavia\, Palazzo San Tommaso – Aula Bottigella \ngiovedì 29 maggio 2025\, ore 15.00\nThe ancient edition of Pindar\nPresso: Almo Collegio Borromeo \nDOCENTE RESPONSABILE\nVirginia MASTELLARI\, Università di Pavia (virginia.mastellari@unipv.it) \n\nLOCANDINA
URL:https://www.collegioborromeo.it/event/ciclo-di-lezioni-nellambito-del-corso-di-letteratura-greca-2_2025/2025-05-29/
CATEGORIES:Attività 2024_2025,Conferences,Conferences, Conventions and Seminars,Conferenze,Conferenze, Convegni e Seminari
ATTACH;FMTTYPE=image/jpeg:https://www.collegioborromeo.it/wp-content/uploads/2025/05/FINGLASS-scaled.jpg
END:VEVENT
BEGIN:VEVENT
DTSTART;TZID=Europe/Paris:20250529T210000
DTEND;TZID=Europe/Paris:20250529T230000
DTSTAMP:20260426T060605
CREATED:20250516T103231Z
LAST-MODIFIED:20250516T104146Z
UID:10001806-1748552400-1748559600@www.collegioborromeo.it
SUMMARY:INTERMEDI RADICALICI IN CHEMIOTERAPIA. Generazione\, meccanismo di azione e possibili impieghi
DESCRIPTION:CONFERENZA CON RELATORE \nDavide RAVELLI\nPhotoGreen Lab – Università di Pavia \nPRENOTA IL TUO POSTO \n\nLOCANDINA
URL:https://www.collegioborromeo.it/event/intermedi-radicalici-in-chemioterapia-generazione-meccanismo-di-azione-e-possibili-impieghi/
CATEGORIES:Attività 2024_2025,Conferences,Conferences, Conventions and Seminars,Conferenze,Conferenze, Convegni e Seminari,Convegni
ATTACH;FMTTYPE=image/jpeg:https://www.collegioborromeo.it/wp-content/uploads/2025/05/50404-scaled.jpg
END:VEVENT
BEGIN:VEVENT
DTSTART;TZID=Europe/Paris:20250530T093000
DTEND;TZID=Europe/Paris:20250530T130000
DTSTAMP:20260426T060605
CREATED:20250519T081745Z
LAST-MODIFIED:20250529T173919Z
UID:10001807-1748597400-1748610000@www.collegioborromeo.it
SUMMARY:LO SPAZIO DELL’IO. Prospettive e forme dell’autobiografismo da Agostino a Vittorio Alfieri
DESCRIPTION:GIORNATA DI STUDI \nDOCENTE RESPONSABILE\nLuca STEFANELLI\, Università di Pavia \nore 9.30\nAgostino e le vie per una autobiografia letteraria\nFabio GASTI\, Università di Pavia \nRitratto del poeta (cristiano) da giovane: la «Vita nova» di Dante\nStefano CARRAI\, Scuola Normale Superiore di Pisa \nCOORDINA\nMirko VOLPI\, Università di Pavia \nore 10.45 Pausa caffè \nore 11.15\nIl Casanova ipermalinconico di Fellini\nGiorgio FICARA\, Università di Torino \n«En se regardant dans ce fidèle miroir». Analisi dell’«Io» e genesi dell’autobiografia\nChristian DEL VENTO\, Università di Pavia \nCOORDINA\nLuca STEFANELLI\, Università di Pavia \nPRENOTA IL TUO POSTO \n\nLOCANDINA
URL:https://www.collegioborromeo.it/event/lo-spazio-dellio-prospettive-e-forme-dellautobiografismo-da-agostino-a-vittorio-alfieri/
CATEGORIES:Attività 2024_2025,Conferences,Conferences, Conventions and Seminars,Conferenze,Conferenze, Convegni e Seminari,Convegni
ATTACH;FMTTYPE=image/jpeg:https://www.collegioborromeo.it/wp-content/uploads/2025/05/LO-SPAZIO-DELLIO-scaled.jpg
END:VEVENT
END:VCALENDAR