BEGIN:VCALENDAR
VERSION:2.0
PRODID:-//Collegio Borromeo - ECPv6.14.0//NONSGML v1.0//EN
CALSCALE:GREGORIAN
METHOD:PUBLISH
X-WR-CALNAME:Collegio Borromeo
X-ORIGINAL-URL:https://www.collegioborromeo.it
X-WR-CALDESC:Eventi per Collegio Borromeo
REFRESH-INTERVAL;VALUE=DURATION:PT1H
X-Robots-Tag:noindex
X-PUBLISHED-TTL:PT1H
BEGIN:VTIMEZONE
TZID:Europe/Rome
BEGIN:DAYLIGHT
TZOFFSETFROM:+0100
TZOFFSETTO:+0200
TZNAME:CEST
DTSTART:20210328T010000
END:DAYLIGHT
BEGIN:STANDARD
TZOFFSETFROM:+0200
TZOFFSETTO:+0100
TZNAME:CET
DTSTART:20211031T010000
END:STANDARD
END:VTIMEZONE
BEGIN:VEVENT
DTSTART;TZID=Europe/Rome:20210613T190000
DTEND;TZID=Europe/Rome:20210613T200000
DTSTAMP:20260426T010317
CREATED:20210225T190706Z
LAST-MODIFIED:20250222T212602Z
UID:10001130-1623610800-1623614400@www.collegioborromeo.it
SUMMARY:Nessuno lo ha mai visto - Percorso di Spiritualità in 8 video
DESCRIPTION:NESSUNO LO HA MAI VISTO – PERCORSO DI SPIRITUALITÀ IN 8 VIDEO \n\n\nCoordina:\nAlberto Lolli\nRettore Almo Collegio Borromeo \n\n\nPer iscriversi: https://tinyurl.com/borromeo-nessuno-2021\nSolo agli iscritti verrà fornito l’accesso agli 8 video. I video saranno resi disponibili a partire dalle ore 19.00 delle date indicate. \n\n28 febbraio 2021\nIntroduzione: le vie dimenticate per rinascere uomini (LINK) \n14 marzo 2021\nConsigliare i dubbiosi\nDare da mangiare agli affamati (LINK) \n28 marzo 2021\nInsegnare agli ignoranti\nDare da bere agli assetati \n11 aprile 2021\nAmmonire i peccatori\nVestire i nudi \n25 aprile 2021\nConsolare gli afflitti\nAlloggiare i pellegrini \n16 maggio 2021\nPerdonare le offese\nVisitare gli infermi \n30 maggio 2021\nSopportare pazientemente le persone moleste\nVisitare i carcerati\n\n13 giugno 2021\nPregare Dio per i vivi e per i morti\nSeppellire i morti \nATTENZIONE: la serata conclusiva nel prato di Villa Rastelli inizialmente prevista per domenica 27 giugno è annullata. In sostituzione domenica 27 giugno alle ore 19.00 gli iscritti riceveranno un nono video. \n\nLOCANDINA
URL:https://www.collegioborromeo.it/event/nessuno-lo-ha-mai-visto-percorso-di-spiritualita-in-8-video-2/
LOCATION:online
CATEGORIES:activities 2020-2021
ATTACH;FMTTYPE=:
END:VEVENT
END:VCALENDAR