BEGIN:VCALENDAR
VERSION:2.0
PRODID:-//Collegio Borromeo - ECPv6.14.0//NONSGML v1.0//EN
CALSCALE:GREGORIAN
METHOD:PUBLISH
X-WR-CALNAME:Collegio Borromeo
X-ORIGINAL-URL:https://www.collegioborromeo.it
X-WR-CALDESC:Eventi per Collegio Borromeo
REFRESH-INTERVAL;VALUE=DURATION:PT1H
X-Robots-Tag:noindex
X-PUBLISHED-TTL:PT1H
BEGIN:VTIMEZONE
TZID:Europe/Rome
BEGIN:DAYLIGHT
TZOFFSETFROM:+0100
TZOFFSETTO:+0200
TZNAME:CEST
DTSTART:20210328T010000
END:DAYLIGHT
BEGIN:STANDARD
TZOFFSETFROM:+0200
TZOFFSETTO:+0100
TZNAME:CET
DTSTART:20211031T010000
END:STANDARD
END:VTIMEZONE
BEGIN:VEVENT
DTSTART;TZID=Europe/Rome:20210503T160000
DTEND;TZID=Europe/Rome:20210503T180000
DTSTAMP:20260426T024724
CREATED:20210226T133753Z
LAST-MODIFIED:20250222T212602Z
UID:10001233-1620057600-1620064800@www.collegioborromeo.it
SUMMARY:Etica ambientale
DESCRIPTION:ETICA AMBIENTALE \n\n\nResponsabile del corso:\nVittorio Vaccari\nUniversità di Pavia \n\n\nPer iscriversi alla Lectio Magistralis: https://tinyurl.com/borromeodad-lmeticaamb21 \nPer iscriversi al corso: https://tinyurl.com/borromeodad-eticaambientale21 \n\n8 marzo 2021 h 17.00\nLectio Magistralis\nLa ricerca di uno sviluppo sostenibile e integrale tra progresso scientifico ed economia: l’esperienza di Stati Uniti e Caraibi\nAndrea Canepari\nAmbasciatore\nIntroduce\nVittorio Vaccari\nUniversità di Pavia\n \n\n\n\n\n\n\n\n\nPrimo modulo:\nSolo il fatto di essere uomini\,\ndeve muovere le persone\na prendersi cura dell’ambiente\nCONFRONTO TRA\nAPPROCCI RELIGIOSI DIVERSI ? \n11 marzo 2021 h 16:00 – 18.00\nPresentazione del corso\nVittorio Vaccari\nUniversità di Pavia \n15 marzo 2021 h 16:00 – 18.00\nVisione ebraica\nPaola Vita Finzi\nUniversità di Pavia \n18 marzo 2021 h 16:00 – 18.00\nVisione musulmana\nPaolo Nicelli\nUniversità Cattolica\, Milano \n22 marzo 2021 h 16:00 – 18.00\nVisione laica\nAdalberto Piazzoli\nUniversità di Pavia \n25 marzo 2021 h 16:00 – 18.00\nVisione cristiana\nGiovanni Lodigiani\nUniversità Insubria \nSecondo modulo:\nCLIMA – FUOCO: quale relazione?\nIl processo di combustione è ampiamente presente nel nostro modo di vivere\, spesso inconsciamente: si vuole approfondire la relazione e gli effetti di tale processo con il clima per valutare la incidenza sull’ ambiente e sui nostri personali comportamenti e per approfondire lo stato della ricerca in atto nei vari settori. ? \n29 marzo 2021 h 16:00 – 18.00\nValidità dello strumento penale nella lotta agli inquinamenti\nLeonarda Vergine\nUniversità di Pavia \n12 aprile 2021 h 16:00 – 18.00\nQuale mobilità\nAndrea Zatti\nUniversità di Pavia \n15 aprile 2021 h 16:00 – 18.00\nEnergia elettrica\nAntonio Savini\nUniversità di Pavia \n19 aprile 2021 h 16:00 – 18.00\nIncendio come fattore ambientale\nLoreto Riggi\nVVF \n22 aprile 2021 h 16:00 – 18.00\nCombustione e salute\nCristina Gremita\nATS Pavia \n26 aprile 2021 h 16:00 – 18.00\nStrumenti economici per l’ambiente\nAntonella Valvassori\nUniversità di Pavia \n29 aprile 2021 h 16:00 – 18.00\nRiscaldarsi: come?\nMassimo Oddone\nUniversità di Pavia \n3 maggio 2021 h 16:00 – 18.00\nRecupero risorse\nCristina Cordoni\nUniversità di Pavia \n6 maggio 2021 h 16:00 – 18.00\nConfronto conclusivo di sintesi\nVittorio Vaccari\nUniversità di Pavia \n\nLOCANDINA   \nInsegnamento a libera scelta con riconoscimento di 3 CFU per i corsi di laurea in Ingegneria Industriale L\, Scienze Fisiche LM\, Fisica L\, Ingegneria Elettrica LM\, Electronic Engineering LM\, Economia e gestione imprese LM\, Ingegneria dell’automazione industriale LM\, Ingegneria civile e ambientale LM\, Computer engineering LM. \nAgli iscritti all’Ordine degli Ingegneri della Provincia di Pavia si riconoscono 2 CFP per la partecipazione all’evento del 8 marzo. ISCRIZIONI su ISI formazione entro il 7 marzo. \nAgli iscritti all’Ordine degli Architetti\, Pianificatori\, Paesaggisti e Conservatori della Provincia di Pavia si riconoscono 2 CFP per la partecipazione all’evento del 8 marzo.
URL:https://www.collegioborromeo.it/event/etica-ambientale/
LOCATION:online
CATEGORIES:accredited courses,activities 2020-2021,courses
ATTACH;FMTTYPE=:
END:VEVENT
BEGIN:VEVENT
DTSTART;TZID=Europe/Rome:20210503T160000
DTEND;TZID=Europe/Rome:20210503T180000
DTSTAMP:20260426T024724
CREATED:20210305T125145Z
LAST-MODIFIED:20250222T212602Z
UID:10001268-1620057600-1620064800@www.collegioborromeo.it
SUMMARY:Etica per la Progettazione
DESCRIPTION:  \nETICA PER LA PROGETTAZIONE \nResponsabile del corso:\nVittorio Vaccari\nUniversità di Pavia \n  \n\n\nPer iscriversi: https://tinyurl.com/borromeodad-eticaprog2020 \n\n\n\n\n\n  \nLezione di apertura\n15 marzo 2021 h 17:00\nAlgor-etica\nFrancesco Profumo \nQUADRO DI RIFERIMENTO\n18 marzo 2021 h 16:00\nApprocci metodologici\nVittorio Vaccari\nSLIDE \n22 marzo 2021 h 16:00\nEtica professionale\, leggi e norme volontarie\nStefano Calzolari\nSLIDE \n25 marzo 2021 h 16:00\nAnalisi ciclo di vita dei prodotti\nAntonella Valvassori \n29 marzo 2021 h 16:00\nAnalisi ciclo di vita dei prodotti\nAntonella Valvassori \nALCUNI AMBITI DI PROGETTAZIONE\n12 aprile 2021 h 16:00\nSfide e scenari per la città post-pandemia\nMarco Morandotti \n15 aprile 2021 h 16:00\nTerritorio: un equilibrio antropico delicato\nAugusto Allegrini \n19 aprile 2021 h 16:00\nLa chimica del polipropilene\nMassimo Oddone \n22 aprile 2021 h 16:00\nImballaggi: plastica – polipropilene\nPaolo Bergaglio\nSLIDE \n26 aprile 2021 h 16:00\nIntelligenza Artificiale: software\nMarco Piastra \n29 aprile 2021 h 16:00\nA. I.: quale rapporto tra tecnica ed etica?\nMaurizio Chiodi \n3 maggio 2021 h 16:00\nAnalisi di sintesi finale\nVittorio Vaccari \n  \n\n\n\n\nLOCANDINA   \nInsegnamento a libera scelta con riconoscimento di 3 CFU per i corsi di laurea in Ingegneria Civile e Ambientale L\, Ingegneria Ambiente e territorio LM\, Ingegneria Elettrica LM. \nAgli iscritti all’Ordine degli Ingegneri della Provincia di Pavia si riconoscono 2 CFP per la partecipazione all’evento del 15 marzo. ISCRIZIONI su ISI formazione entro il 13 marzo.
URL:https://www.collegioborromeo.it/event/etica-per-la-progettazione-2/
LOCATION:online
CATEGORIES:accredited courses,activities 2020-2021,courses
ATTACH;FMTTYPE=:
END:VEVENT
BEGIN:VEVENT
DTSTART;TZID=Europe/Rome:20210503T180000
DTEND;TZID=Europe/Rome:20210503T200000
DTSTAMP:20260426T024724
CREATED:20210226T105339Z
LAST-MODIFIED:20250222T212602Z
UID:10001187-1620064800-1620072000@www.collegioborromeo.it
SUMMARY:Neuroscienze
DESCRIPTION:NEUROSCIENZE \n\n\nDocente:\nEgidio D’Angelo\nUniversità di Pavia \n\n\nPer iscriversi: https://tinyurl.com/borromeodad-neuroscienze21 \n\n8 marz0 2021 h 18.00\nThe organization of the nervous system \n22 marzo 2021 h 18.00\nBiophysical mechanisms of neurons \n29 marzo 2021 h 18.00\nThe neural code \n12 aprile 2021 h 18.00\nQuantification of neural information \n19 aprile 2021 h 18.00\nComputation and plasticity in the nervous system \n26 aprile 2021 h 18.00\nNeural networks and the emergence of higher brain function \n3 maggio 2021 h 18.00\nComputational and learning properties of neural networks \n10 maggio 2021 h 18.00\nArtificial neural networks and brain models \n\nLOCANDINA   \nIl corso è riconosciuto dalla Facoltà di Medicina e Chirurgia per i corsi di laurea in lingua italiana quale attività ADE-altra (1 credito libero).\nIl corso è in lingua inglese. Gli studenti che volessero frequentare il corso in lingua italiana potranno accedere alle lezioni caricate sulla piattaforma KIRO.
URL:https://www.collegioborromeo.it/event/neuroscienze/
LOCATION:online
CATEGORIES:accredited courses,activities 2020-2021,courses
ATTACH;FMTTYPE=:
END:VEVENT
BEGIN:VEVENT
DTSTART;TZID=Europe/Rome:20210505T180000
DTEND;TZID=Europe/Rome:20210505T200000
DTSTAMP:20260426T024724
CREATED:20210125T165836Z
LAST-MODIFIED:20250222T212602Z
UID:10001010-1620237600-1620244800@www.collegioborromeo.it
SUMMARY:Medicina\, Equità\, Diritti - Corso in memoria di Giulio Regeni
DESCRIPTION:MEDICINA EQUITÀ DIRITTI – CORSO IN MEMORIA DI GIULIO REGENI \n\n\nCorso a cura di:\nLuca Ansaloni – Università di Pavia\nClelia Martignoni – Università di Pavia\nAlberto Lolli – Rettore Almo Collegio Borromeo\n\nPer iscriversi: https://tinyurl.com/borromeodad-medequidiritt21 \n\n4 mar 2021 h 18:00 – VIDEO\nAssistenza sanitaria e diritto: carcere e violazione\nGherardo Colombo – Già Magistrato\nLaura Cesaris – Università di Pavia\nIlaria Cucchi – Attivista per i diritti umani\nRuggero Giuliani – Medici Senza Frontiere\n\n18 mar 2021 h 18:00 – VIDEO\nCarenza di diritti e carenza di salute in contesti di guerra.\nLa tecnologia “appropriata” nella chirurgia dei paesi a risorse limitate: un’opportunità globale?\nGino Strada – Emergency\nLuca Ansaloni – Università di Pavia\n\n8 apr 2021 h 18:00 – VIDEO\nSul concetto di razza tra ricerca biomedica\, etica\, diritto\nGuido Barbujani – Università di Ferrara\nAndrea Gratteri – Università di Pavia\nFilippo Magni – Università di Pavia\nGiampaolo Azzoni – Università di Pavia\nCarlo Alberto Redi – Università di Pavia\n\n21 apr 2021 h 18:00 – VIDEO\nDiversity in medicina\nLorenzo Cobianchi – IRCCS Fondazione Policlinico S. Matteo\nFrancesca Dal Mas – University of Lincoln (UK)\nLuisa Rosti – Università di Pavia\n\n5 mag 2021 h 18:00\nLa morte di Stefano Cucchi e la soggettività politica\nLuigi Manconi – A Buon Diritto Onlus\n\n\n20 mag 2021 h 18:00\nDiritto alla salute e migrazioni\nSALUTO di Claudio e Paola Regeni\nFabio Baggio – Dicastero Servizio dello Sviluppo Umano Integrale\nVanna Berlincioni – Università di Pavia\nFrancesco Falaschi – IRCCS Fondazione Policlinico S. Matteo\nVincenzo Salvatore – Università dell’Insubria\nCOORDINA\nElisa Signori – Università di Pavia\n\nLOCANDINA  \n\nCorso organizzato dall’Almo Collegio Borromeo e l’Università di Pavia grazie a Noi Siamo Giulio\, Amnesty International\, EMERGENCY\, Scholars at Risk\, ADI – Associazione Dottorandi e Dottori di Ricerca in Italia e ADI Pavia. \nSI PARLA DI NOI \n\nRAI RADIO 2 – Cartepillar 4 marzo 2021 – LINK \nRADIO POPOLARE – Intervista a Clelia Martignoni – 1D2 – 3 marzo 2021 LINK \nRAI3 – Buongiorno Regione 9 marzo 2021 – LINK
URL:https://www.collegioborromeo.it/event/medicina-equita-diritti-corso-in-memoria-di-giulio-regeni-copy-4-2/
LOCATION:online
CATEGORIES:activities 2020-2021,courses,non-accredited courses
ATTACH;FMTTYPE=:
END:VEVENT
BEGIN:VEVENT
DTSTART;TZID=Europe/Rome:20210506T150000
DTEND;TZID=Europe/Rome:20210506T180000
DTSTAMP:20260426T024724
CREATED:20210315T185408Z
LAST-MODIFIED:20250222T212602Z
UID:10001287-1620313200-1620324000@www.collegioborromeo.it
SUMMARY:Arbitrato\, Mediazione e Negoziazione Assistita
DESCRIPTION:ARBITRATO MEDIAZIONE E NEGOZIAZIONE ASSISTITA \n\n\nDocente:\nElisabetta Silvestri\nUniversità di Pavia \nCollabora:\nFrancesca Cuomo Ulloa\nAvvocato \n\n\n\nPer iscriversi: https://tinyurl.com/borromeodad-arbitrato2021 \n\n18 marzo 2021 h 15.00 – 18.00 \n25 marzo 2021 h 15.00 – 18.00 \n8 aprile 2021 h 15.00 – 18.00 \n15 aprile 2021 h 15.00 – 18.00 \n22 aprile 2021 h 15.00 – 18.00 \n29 aprile 2021 h 15.00 – 18.00 \n6 maggio 2021 h 15.00 – 18.00 \n13 maggio 2021 h 15.00 – 18.00 \n20 maggio 2021 h 15.00 – 18.00 \n27 maggio 2021 h 15.00 – 18.00 \n\nLOCANDINA   \nInsegnamento a libera scelta con riconoscimento di 3 CFU per i corsi di laurea in Giurisprudenza\, Scienze dei Servizi Giuridici\, Economia e legislazione d’impresa.
URL:https://www.collegioborromeo.it/event/arbitrato-mediazione-e-negoziazione-assistita-2/
LOCATION:online
CATEGORIES:accredited courses,activities 2020-2021,courses
ATTACH;FMTTYPE=:
END:VEVENT
BEGIN:VEVENT
DTSTART;TZID=Europe/Rome:20210506T160000
DTEND;TZID=Europe/Rome:20210506T180000
DTSTAMP:20260426T024724
CREATED:20210226T133753Z
LAST-MODIFIED:20250222T212602Z
UID:10001234-1620316800-1620324000@www.collegioborromeo.it
SUMMARY:Etica ambientale
DESCRIPTION:ETICA AMBIENTALE \n\n\nResponsabile del corso:\nVittorio Vaccari\nUniversità di Pavia \n\n\nPer iscriversi alla Lectio Magistralis: https://tinyurl.com/borromeodad-lmeticaamb21 \nPer iscriversi al corso: https://tinyurl.com/borromeodad-eticaambientale21 \n\n8 marzo 2021 h 17.00\nLectio Magistralis\nLa ricerca di uno sviluppo sostenibile e integrale tra progresso scientifico ed economia: l’esperienza di Stati Uniti e Caraibi\nAndrea Canepari\nAmbasciatore\nIntroduce\nVittorio Vaccari\nUniversità di Pavia\n \n\n\n\n\n\n\n\n\nPrimo modulo:\nSolo il fatto di essere uomini\,\ndeve muovere le persone\na prendersi cura dell’ambiente\nCONFRONTO TRA\nAPPROCCI RELIGIOSI DIVERSI ? \n11 marzo 2021 h 16:00 – 18.00\nPresentazione del corso\nVittorio Vaccari\nUniversità di Pavia \n15 marzo 2021 h 16:00 – 18.00\nVisione ebraica\nPaola Vita Finzi\nUniversità di Pavia \n18 marzo 2021 h 16:00 – 18.00\nVisione musulmana\nPaolo Nicelli\nUniversità Cattolica\, Milano \n22 marzo 2021 h 16:00 – 18.00\nVisione laica\nAdalberto Piazzoli\nUniversità di Pavia \n25 marzo 2021 h 16:00 – 18.00\nVisione cristiana\nGiovanni Lodigiani\nUniversità Insubria \nSecondo modulo:\nCLIMA – FUOCO: quale relazione?\nIl processo di combustione è ampiamente presente nel nostro modo di vivere\, spesso inconsciamente: si vuole approfondire la relazione e gli effetti di tale processo con il clima per valutare la incidenza sull’ ambiente e sui nostri personali comportamenti e per approfondire lo stato della ricerca in atto nei vari settori. ? \n29 marzo 2021 h 16:00 – 18.00\nValidità dello strumento penale nella lotta agli inquinamenti\nLeonarda Vergine\nUniversità di Pavia \n12 aprile 2021 h 16:00 – 18.00\nQuale mobilità\nAndrea Zatti\nUniversità di Pavia \n15 aprile 2021 h 16:00 – 18.00\nEnergia elettrica\nAntonio Savini\nUniversità di Pavia \n19 aprile 2021 h 16:00 – 18.00\nIncendio come fattore ambientale\nLoreto Riggi\nVVF \n22 aprile 2021 h 16:00 – 18.00\nCombustione e salute\nCristina Gremita\nATS Pavia \n26 aprile 2021 h 16:00 – 18.00\nStrumenti economici per l’ambiente\nAntonella Valvassori\nUniversità di Pavia \n29 aprile 2021 h 16:00 – 18.00\nRiscaldarsi: come?\nMassimo Oddone\nUniversità di Pavia \n3 maggio 2021 h 16:00 – 18.00\nRecupero risorse\nCristina Cordoni\nUniversità di Pavia \n6 maggio 2021 h 16:00 – 18.00\nConfronto conclusivo di sintesi\nVittorio Vaccari\nUniversità di Pavia \n\nLOCANDINA   \nInsegnamento a libera scelta con riconoscimento di 3 CFU per i corsi di laurea in Ingegneria Industriale L\, Scienze Fisiche LM\, Fisica L\, Ingegneria Elettrica LM\, Electronic Engineering LM\, Economia e gestione imprese LM\, Ingegneria dell’automazione industriale LM\, Ingegneria civile e ambientale LM\, Computer engineering LM. \nAgli iscritti all’Ordine degli Ingegneri della Provincia di Pavia si riconoscono 2 CFP per la partecipazione all’evento del 8 marzo. ISCRIZIONI su ISI formazione entro il 7 marzo. \nAgli iscritti all’Ordine degli Architetti\, Pianificatori\, Paesaggisti e Conservatori della Provincia di Pavia si riconoscono 2 CFP per la partecipazione all’evento del 8 marzo.
URL:https://www.collegioborromeo.it/event/etica-ambientale/
LOCATION:online
CATEGORIES:accredited courses,activities 2020-2021,courses
ATTACH;FMTTYPE=:
END:VEVENT
BEGIN:VEVENT
DTSTART;TZID=Europe/Rome:20210510T180000
DTEND;TZID=Europe/Rome:20210510T200000
DTSTAMP:20260426T024724
CREATED:20210226T105339Z
LAST-MODIFIED:20250222T212602Z
UID:10001188-1620669600-1620676800@www.collegioborromeo.it
SUMMARY:Neuroscienze
DESCRIPTION:NEUROSCIENZE \n\n\nDocente:\nEgidio D’Angelo\nUniversità di Pavia \n\n\nPer iscriversi: https://tinyurl.com/borromeodad-neuroscienze21 \n\n8 marz0 2021 h 18.00\nThe organization of the nervous system \n22 marzo 2021 h 18.00\nBiophysical mechanisms of neurons \n29 marzo 2021 h 18.00\nThe neural code \n12 aprile 2021 h 18.00\nQuantification of neural information \n19 aprile 2021 h 18.00\nComputation and plasticity in the nervous system \n26 aprile 2021 h 18.00\nNeural networks and the emergence of higher brain function \n3 maggio 2021 h 18.00\nComputational and learning properties of neural networks \n10 maggio 2021 h 18.00\nArtificial neural networks and brain models \n\nLOCANDINA   \nIl corso è riconosciuto dalla Facoltà di Medicina e Chirurgia per i corsi di laurea in lingua italiana quale attività ADE-altra (1 credito libero).\nIl corso è in lingua inglese. Gli studenti che volessero frequentare il corso in lingua italiana potranno accedere alle lezioni caricate sulla piattaforma KIRO.
URL:https://www.collegioborromeo.it/event/neuroscienze/
LOCATION:online
CATEGORIES:accredited courses,activities 2020-2021,courses
ATTACH;FMTTYPE=:
END:VEVENT
BEGIN:VEVENT
DTSTART;TZID=Europe/Rome:20210511T210000
DTEND;TZID=Europe/Rome:20210511T230000
DTSTAMP:20260426T024724
CREATED:20210226T144219Z
LAST-MODIFIED:20250222T212602Z
UID:10001244-1620766800-1620774000@www.collegioborromeo.it
SUMMARY:L'energia del Mondo
DESCRIPTION:L’ENERGIA DEL MONDO – CRITICITÀ E PROSPETTIVE DELLA QUESTIONE ENERGETICA \n  \n\n\nPer iscriversi: https://tinyurl.com/borromeodad-energiadelmondo21 \n\n09 marzo 2021 h 21.00\nL’energia del mondo: scienza\, economia e politica\nAlberto Rotondi e Marcella Nicolini\nUniversità di Pavia\nSLIDE: Rotondi – Nicolini \n23 marzo 2021 h 18.00\nNucleare: energia di ieri o di domani?\nSaverio Altieri\nUniversità di Pavia\nSLIDE: parte1 – parte2 \n13 aprile 2021 h 18.00\nIl superamento dei combustibili fossili\, tra attualità e prospettive\nStefano Protti\nUniversità di Pavia\nSLIDE: Protti \n27 aprile 2021 h 18.00\nIlluminare una Nazione: sinergie energetiche\nRiccardo Mereu\nPolitecnico di Milano \n11 maggio 2021 h 21.00\nTavola rotonda\nDentro la lampadina: viaggio nelle fake news energetiche\nmodera:\nMatteo Rini\nNew York University\, American Physical Society (APS)\nintervengono:\nAlberto Rotondi\, Marcella Nicolini\, Saverio Altieri\, Stefano Protti e Riccardo Mereu \n\nLOCANDINA   \nLa partecipazione al ciclo di incontri è riconosciuta dall’Istituto Universitario di Studi Superiori IUSS di Pavia fra le attività extra-classe dei Corsi Ordinari.
URL:https://www.collegioborromeo.it/event/lenergia-del-mondo-2/
LOCATION:online
CATEGORIES:activities 2020-2021,courses,non-accredited courses
ATTACH;FMTTYPE=:
END:VEVENT
BEGIN:VEVENT
DTSTART;TZID=Europe/Rome:20210512T180000
DTEND;TZID=Europe/Rome:20210512T200000
DTSTAMP:20260426T024724
CREATED:20210218T223553Z
LAST-MODIFIED:20250222T212602Z
UID:10001066-1620842400-1620849600@www.collegioborromeo.it
SUMMARY:Il Moderno guarda all'Antico tra Letterature - Arte - Filosofie
DESCRIPTION:IL MODERNO GUARDA ALL’ANTICO TRA LETTERATURE – ARTE – FILOSOFIA \n\n\nDocenti referenti: \nSilvana Borutti\nClelia Martignoni\nElisa Romano\nUniversità di Pavia \n\n\nPer iscriversi: https://tinyurl.com/borromeodad-modernoantico21 \n\n\n17 marzo 2021 h 18.00\nIncontro introduttivo. A più voci\nElisa Romano\nUniversità di Pavia\nClelia Martignoni\nUniversità di Pavia\nSerena Feloj\nUniversità di Pavia \n24 marzo 2021 h 18.00\nOdissee dei modernisti\nPiero Boitani\nSapienza Università di Roma \n30 marzo 2021 h 18.00\nLa nascita di Roma. Una società aperta\nMaurizio Bettini\nUniversità di Siena \n14 aprile 2021 h 18.00\nLavoro e tecnica dei Greci in Hannah Arendt\nGiuseppe Cambiano\nScuola Normale Superiore di Pisa \n22 aprile 2021 h 18.00\nLettere in giacenza. La filosofia e il tramonto del classico\nGianluca Garelli\nUniversità degli Studi di Firenze \n29 aprile 2021 h 18.00\nL’antichità dionisiaca di Friedrich Nietzsche: filologia e tragedia\nGherardo Ugolini\nUniversità di Verona\nIN DIALOGO CON\nFranco Ferrari\nUniversità di Pavia \n12 maggio 2021 h 18.00\nFra l’antico e il moderno: le dissimulazioni di Luchino Visconti\nMaurizio Harari\nUniversità di Pavia\nFederica Villa\nUniversità di Pavia \n\n\nLOCANDINA  \n\n 
URL:https://www.collegioborromeo.it/event/il-moderno-guarda-allantico-tra-letterature-arte-filosofie-copy-6-2/
LOCATION:online
CATEGORIES:accredited courses,activities 2020-2021,courses
ATTACH;FMTTYPE=:
END:VEVENT
BEGIN:VEVENT
DTSTART;TZID=Europe/Rome:20210513T150000
DTEND;TZID=Europe/Rome:20210513T180000
DTSTAMP:20260426T024724
CREATED:20210315T185408Z
LAST-MODIFIED:20250222T212602Z
UID:10001288-1620918000-1620928800@www.collegioborromeo.it
SUMMARY:Arbitrato\, Mediazione e Negoziazione Assistita
DESCRIPTION:ARBITRATO MEDIAZIONE E NEGOZIAZIONE ASSISTITA \n\n\nDocente:\nElisabetta Silvestri\nUniversità di Pavia \nCollabora:\nFrancesca Cuomo Ulloa\nAvvocato \n\n\n\nPer iscriversi: https://tinyurl.com/borromeodad-arbitrato2021 \n\n18 marzo 2021 h 15.00 – 18.00 \n25 marzo 2021 h 15.00 – 18.00 \n8 aprile 2021 h 15.00 – 18.00 \n15 aprile 2021 h 15.00 – 18.00 \n22 aprile 2021 h 15.00 – 18.00 \n29 aprile 2021 h 15.00 – 18.00 \n6 maggio 2021 h 15.00 – 18.00 \n13 maggio 2021 h 15.00 – 18.00 \n20 maggio 2021 h 15.00 – 18.00 \n27 maggio 2021 h 15.00 – 18.00 \n\nLOCANDINA   \nInsegnamento a libera scelta con riconoscimento di 3 CFU per i corsi di laurea in Giurisprudenza\, Scienze dei Servizi Giuridici\, Economia e legislazione d’impresa.
URL:https://www.collegioborromeo.it/event/arbitrato-mediazione-e-negoziazione-assistita-2/
LOCATION:online
CATEGORIES:accredited courses,activities 2020-2021,courses
ATTACH;FMTTYPE=:
END:VEVENT
BEGIN:VEVENT
DTSTART;TZID=Europe/Rome:20210516T190000
DTEND;TZID=Europe/Rome:20210516T200000
DTSTAMP:20260426T024724
CREATED:20210225T190706Z
LAST-MODIFIED:20250222T212602Z
UID:10001128-1621191600-1621195200@www.collegioborromeo.it
SUMMARY:Nessuno lo ha mai visto - Percorso di Spiritualità in 8 video
DESCRIPTION:NESSUNO LO HA MAI VISTO – PERCORSO DI SPIRITUALITÀ IN 8 VIDEO \n\n\nCoordina:\nAlberto Lolli\nRettore Almo Collegio Borromeo \n\n\nPer iscriversi: https://tinyurl.com/borromeo-nessuno-2021\nSolo agli iscritti verrà fornito l’accesso agli 8 video. I video saranno resi disponibili a partire dalle ore 19.00 delle date indicate. \n\n28 febbraio 2021\nIntroduzione: le vie dimenticate per rinascere uomini (LINK) \n14 marzo 2021\nConsigliare i dubbiosi\nDare da mangiare agli affamati (LINK) \n28 marzo 2021\nInsegnare agli ignoranti\nDare da bere agli assetati \n11 aprile 2021\nAmmonire i peccatori\nVestire i nudi \n25 aprile 2021\nConsolare gli afflitti\nAlloggiare i pellegrini \n16 maggio 2021\nPerdonare le offese\nVisitare gli infermi \n30 maggio 2021\nSopportare pazientemente le persone moleste\nVisitare i carcerati\n\n13 giugno 2021\nPregare Dio per i vivi e per i morti\nSeppellire i morti \nATTENZIONE: la serata conclusiva nel prato di Villa Rastelli inizialmente prevista per domenica 27 giugno è annullata. In sostituzione domenica 27 giugno alle ore 19.00 gli iscritti riceveranno un nono video. \n\nLOCANDINA
URL:https://www.collegioborromeo.it/event/nessuno-lo-ha-mai-visto-percorso-di-spiritualita-in-8-video-2/
LOCATION:online
CATEGORIES:activities 2020-2021
ATTACH;FMTTYPE=:
END:VEVENT
BEGIN:VEVENT
DTSTART;TZID=Europe/Rome:20210520T150000
DTEND;TZID=Europe/Rome:20210520T180000
DTSTAMP:20260426T024724
CREATED:20210315T185408Z
LAST-MODIFIED:20250222T212602Z
UID:10001289-1621522800-1621533600@www.collegioborromeo.it
SUMMARY:Arbitrato\, Mediazione e Negoziazione Assistita
DESCRIPTION:ARBITRATO MEDIAZIONE E NEGOZIAZIONE ASSISTITA \n\n\nDocente:\nElisabetta Silvestri\nUniversità di Pavia \nCollabora:\nFrancesca Cuomo Ulloa\nAvvocato \n\n\n\nPer iscriversi: https://tinyurl.com/borromeodad-arbitrato2021 \n\n18 marzo 2021 h 15.00 – 18.00 \n25 marzo 2021 h 15.00 – 18.00 \n8 aprile 2021 h 15.00 – 18.00 \n15 aprile 2021 h 15.00 – 18.00 \n22 aprile 2021 h 15.00 – 18.00 \n29 aprile 2021 h 15.00 – 18.00 \n6 maggio 2021 h 15.00 – 18.00 \n13 maggio 2021 h 15.00 – 18.00 \n20 maggio 2021 h 15.00 – 18.00 \n27 maggio 2021 h 15.00 – 18.00 \n\nLOCANDINA   \nInsegnamento a libera scelta con riconoscimento di 3 CFU per i corsi di laurea in Giurisprudenza\, Scienze dei Servizi Giuridici\, Economia e legislazione d’impresa.
URL:https://www.collegioborromeo.it/event/arbitrato-mediazione-e-negoziazione-assistita-2/
LOCATION:online
CATEGORIES:accredited courses,activities 2020-2021,courses
ATTACH;FMTTYPE=:
END:VEVENT
BEGIN:VEVENT
DTSTART;TZID=Europe/Rome:20210520T180000
DTEND;TZID=Europe/Rome:20210520T200000
DTSTAMP:20260426T024724
CREATED:20210125T165844Z
LAST-MODIFIED:20250222T212602Z
UID:10001011-1621533600-1621540800@www.collegioborromeo.it
SUMMARY:Medicina\, Equità\, Diritti - Corso in memoria di Giulio Regeni
DESCRIPTION:MEDICINA EQUITÀ DIRITTI – CORSO IN MEMORIA DI GIULIO REGENI \n\n\nCorso a cura di:\nLuca Ansaloni – Università di Pavia\nClelia Martignoni – Università di Pavia\nAlberto Lolli – Rettore Almo Collegio Borromeo\n\nPer iscriversi: https://tinyurl.com/borromeodad-medequidiritt21 \n\n4 mar 2021 h 18:00 – VIDEO\nAssistenza sanitaria e diritto: carcere e violazione\nGherardo Colombo – Già Magistrato\nLaura Cesaris – Università di Pavia\nIlaria Cucchi – Attivista per i diritti umani\nRuggero Giuliani – Medici Senza Frontiere\n\n18 mar 2021 h 18:00 – VIDEO\nCarenza di diritti e carenza di salute in contesti di guerra.\nLa tecnologia “appropriata” nella chirurgia dei paesi a risorse limitate: un’opportunità globale?\nGino Strada – Emergency\nLuca Ansaloni – Università di Pavia\n\n8 apr 2021 h 18:00 – VIDEO\nSul concetto di razza tra ricerca biomedica\, etica\, diritto\nGuido Barbujani – Università di Ferrara\nAndrea Gratteri – Università di Pavia\nFilippo Magni – Università di Pavia\nGiampaolo Azzoni – Università di Pavia\nCarlo Alberto Redi – Università di Pavia\n\n21 apr 2021 h 18:00 – VIDEO\nDiversity in medicina\nLorenzo Cobianchi – IRCCS Fondazione Policlinico S. Matteo\nFrancesca Dal Mas – University of Lincoln (UK)\nLuisa Rosti – Università di Pavia\n\n5 mag 2021 h 18:00\nLa morte di Stefano Cucchi e la soggettività politica\nLuigi Manconi – A Buon Diritto Onlus\n\n20 mag 2021 h 18:00\nDiritto alla salute e migrazioni\nSALUTO di Claudio e Paola REGENI\nFabio Baggio Dicastero Servizio dello Sviluppo Umano Integrale\nVanna Berlincioni Università di Pavia\nFrancesco Falaschi IRCCS Fondazione Policlinico S. Matteo\nVincenzo Salvatore Università dell’Insubria\nCOORDINA\nElisa Signori Università di Pavia\n\nLOCANDINA  \n\nCorso organizzato dall’Almo Collegio Borromeo e l’Università di Pavia grazie a Noi Siamo Giulio\, Amnesty International\, EMERGENCY\, Scholars at Risk\, ADI – Associazione Dottorandi e Dottori di Ricerca in Italia e ADI Pavia. \nSI PARLA DI NOI \n\nRAI RADIO 2 – Cartepilla 4 marzo 2021 – LINK \nRADIO POPOLARE – Intervista a Clelia Martignoni – 1D2 – 3 marzo 2021 LINK \nRAI3 – Buongiorno Regione  9 marzo 2021 – LINK
URL:https://www.collegioborromeo.it/event/medicina-equita-diritti-corso-in-memoria-di-giulio-regeni-copy-5-2/
LOCATION:online
CATEGORIES:activities 2020-2021,courses,non-accredited courses
ATTACH;FMTTYPE=:
END:VEVENT
BEGIN:VEVENT
DTSTART;TZID=Europe/Rome:20210527T150000
DTEND;TZID=Europe/Rome:20210527T180000
DTSTAMP:20260426T024724
CREATED:20210315T185408Z
LAST-MODIFIED:20250222T212602Z
UID:10001290-1622127600-1622138400@www.collegioborromeo.it
SUMMARY:Arbitrato\, Mediazione e Negoziazione Assistita
DESCRIPTION:ARBITRATO MEDIAZIONE E NEGOZIAZIONE ASSISTITA \n\n\nDocente:\nElisabetta Silvestri\nUniversità di Pavia \nCollabora:\nFrancesca Cuomo Ulloa\nAvvocato \n\n\n\nPer iscriversi: https://tinyurl.com/borromeodad-arbitrato2021 \n\n18 marzo 2021 h 15.00 – 18.00 \n25 marzo 2021 h 15.00 – 18.00 \n8 aprile 2021 h 15.00 – 18.00 \n15 aprile 2021 h 15.00 – 18.00 \n22 aprile 2021 h 15.00 – 18.00 \n29 aprile 2021 h 15.00 – 18.00 \n6 maggio 2021 h 15.00 – 18.00 \n13 maggio 2021 h 15.00 – 18.00 \n20 maggio 2021 h 15.00 – 18.00 \n27 maggio 2021 h 15.00 – 18.00 \n\nLOCANDINA   \nInsegnamento a libera scelta con riconoscimento di 3 CFU per i corsi di laurea in Giurisprudenza\, Scienze dei Servizi Giuridici\, Economia e legislazione d’impresa.
URL:https://www.collegioborromeo.it/event/arbitrato-mediazione-e-negoziazione-assistita-2/
LOCATION:online
CATEGORIES:accredited courses,activities 2020-2021,courses
ATTACH;FMTTYPE=:
END:VEVENT
BEGIN:VEVENT
DTSTART;TZID=Europe/Rome:20210530T190000
DTEND;TZID=Europe/Rome:20210530T200000
DTSTAMP:20260426T024724
CREATED:20210225T190706Z
LAST-MODIFIED:20250222T212602Z
UID:10001129-1622401200-1622404800@www.collegioborromeo.it
SUMMARY:Nessuno lo ha mai visto - Percorso di Spiritualità in 8 video
DESCRIPTION:NESSUNO LO HA MAI VISTO – PERCORSO DI SPIRITUALITÀ IN 8 VIDEO \n\n\nCoordina:\nAlberto Lolli\nRettore Almo Collegio Borromeo \n\n\nPer iscriversi: https://tinyurl.com/borromeo-nessuno-2021\nSolo agli iscritti verrà fornito l’accesso agli 8 video. I video saranno resi disponibili a partire dalle ore 19.00 delle date indicate. \n\n28 febbraio 2021\nIntroduzione: le vie dimenticate per rinascere uomini (LINK) \n14 marzo 2021\nConsigliare i dubbiosi\nDare da mangiare agli affamati (LINK) \n28 marzo 2021\nInsegnare agli ignoranti\nDare da bere agli assetati \n11 aprile 2021\nAmmonire i peccatori\nVestire i nudi \n25 aprile 2021\nConsolare gli afflitti\nAlloggiare i pellegrini \n16 maggio 2021\nPerdonare le offese\nVisitare gli infermi \n30 maggio 2021\nSopportare pazientemente le persone moleste\nVisitare i carcerati\n\n13 giugno 2021\nPregare Dio per i vivi e per i morti\nSeppellire i morti \nATTENZIONE: la serata conclusiva nel prato di Villa Rastelli inizialmente prevista per domenica 27 giugno è annullata. In sostituzione domenica 27 giugno alle ore 19.00 gli iscritti riceveranno un nono video. \n\nLOCANDINA
URL:https://www.collegioborromeo.it/event/nessuno-lo-ha-mai-visto-percorso-di-spiritualita-in-8-video-2/
LOCATION:online
CATEGORIES:activities 2020-2021
ATTACH;FMTTYPE=:
END:VEVENT
END:VCALENDAR