BEGIN:VCALENDAR
VERSION:2.0
PRODID:-//Collegio Borromeo - ECPv6.14.0//NONSGML v1.0//EN
CALSCALE:GREGORIAN
METHOD:PUBLISH
X-WR-CALNAME:Collegio Borromeo
X-ORIGINAL-URL:https://www.collegioborromeo.it
X-WR-CALDESC:Eventi per Collegio Borromeo
REFRESH-INTERVAL;VALUE=DURATION:PT1H
X-Robots-Tag:noindex
X-PUBLISHED-TTL:PT1H
BEGIN:VTIMEZONE
TZID:Europe/Paris
BEGIN:DAYLIGHT
TZOFFSETFROM:+0100
TZOFFSETTO:+0200
TZNAME:CEST
DTSTART:20260329T010000
END:DAYLIGHT
BEGIN:STANDARD
TZOFFSETFROM:+0200
TZOFFSETTO:+0100
TZNAME:CET
DTSTART:20261025T010000
END:STANDARD
END:VTIMEZONE
BEGIN:VEVENT
DTSTART;TZID=Europe/Paris:20260422T110000
DTEND;TZID=Europe/Paris:20260422T123000
DTSTAMP:20260423T012049
CREATED:20260416T140815Z
LAST-MODIFIED:20260416T140815Z
UID:10002320-1776855600-1776861000@www.collegioborromeo.it
SUMMARY:Regia e scrittura scenica nel teatro contemporaneo
DESCRIPTION:Insegnamento a libera scelta con riconoscimento di 6 CFU per il corso di laurea in Scritture e progetti per le arti visive e performative. [Codice 509204]. \nDOCENTE\nDavide CIOFFRESE\, Università di Pavia\nCON UN SEMINARIO A CURA DI\nEva CORBARI\, Università di Pavia \nCREDITI FOTO: I Persiani\, Compagnia I Sacchi di Sabbia \nISCRIVITI AL CORSO \n\nLOCANDINA
URL:https://www.collegioborromeo.it/event/regia-e-scrittura-scenica-nel-teatro-contemporaneo-4/2026-04-22/
CATEGORIES:Attività 2025_2026
ATTACH;FMTTYPE=image/jpeg:https://www.collegioborromeo.it/wp-content/uploads/2026/04/regia-scaled.jpg
END:VEVENT
BEGIN:VEVENT
DTSTART;TZID=Europe/Paris:20260422T163000
DTEND;TZID=Europe/Paris:20260422T183000
DTSTAMP:20260423T012049
CREATED:20260317T115129Z
LAST-MODIFIED:20260317T115129Z
UID:10002253-1776875400-1776882600@www.collegioborromeo.it
SUMMARY:Strumenti\, metodi e progetti per l’inclusione
DESCRIPTION:Insegnamento a libera scelta con riconoscimento di 3 CFU per il corso di laurea magistrale in Ingegneria Edile – Architettura. \nDOCENTE\nValentina GIACOMETTI\, Università di Pavia \nISCRIVITI QUI \nPROGRAMMA\nmercoledì 15 aprile 2026\, ore 16.30\nmercoledì 22 aprile 2026\, ore 16.30\nmercoledì 29 aprile 2026\, ore 16.30\nmercoledì 6 maggio 2026\, ore 16.30\nmercoledì 13 maggio 2026\, ore 16.30\nmercoledì 20 maggio 2026\, ore 16.30\nmercoledì 27 maggio 2026\, ore 16.30\nmercoledì 3 giugno 2026\, ore 16.30 \n\n\nLOCANDINA
URL:https://www.collegioborromeo.it/event/strumenti-metodi-e-progetti-per-linclusione-2/2026-04-22/
CATEGORIES:Attività 2025_2026,Corsi
ATTACH;FMTTYPE=image/jpeg:https://www.collegioborromeo.it/wp-content/uploads/2026/03/Strumenti-metodi-inclusione-scaled.jpg
END:VEVENT
BEGIN:VEVENT
DTSTART;TZID=Europe/Paris:20260422T180000
DTEND;TZID=Europe/Paris:20260422T193000
DTSTAMP:20260423T012049
CREATED:20260416T154026Z
LAST-MODIFIED:20260416T154026Z
UID:10002340-1776880800-1776886200@www.collegioborromeo.it
SUMMARY:Approfondimenti di FISIOLOGIA UMANA
DESCRIPTION:Il corso è riconosciuto dalla Facoltà di Medicina e Chirurgia per i corsi di laurea in lingua italiana quale attività ADE-altra (1 credito libero). \nDOCENTE RESPONSABILE\nRoberto BOTTINELLI\, Università di Pavia \nISCRIVITI AL CORSO \nCALENDARIO DELLE LEZIONI \nmercoledì 22 aprile 2026\, ore 18.00\nSkeletal Muscle Plasticity: are we born to run or to rest?\nRoberto BOTTINELLI\, Università di Pavia \nmercoledì 29 aprile 2026\, ore 18.00\nNuclear balance of reversible phosphorylation and skeletal muscle aging: new pathways to an old problem\nKonstantinos LEFKIMMIATIS\,Università di Pavia \nmercoledì 6 maggio 2026\, ore 18.00\nEffects of Inorganic Nitrate Supplementation between the sexes and across the menstrual cycle\nJason David ALLEN\, University of Virginia \ngiovedì 7 maggio 2026\, ore 18.00\nNeuromuscular function: can we BEET aging?\nSimone PORCELLI\, Università di Pavia \nmercoledì 13 maggio 2026\, ore 18.00\nBioenergetics and Skeletal Muscle Fatigue\nChris SUNDBERG\, University of Wisconsin–Madison \n\nLOCANDINA
URL:https://www.collegioborromeo.it/event/approfondimenti-di-fisiologia-umana-5/2026-04-22/
CATEGORIES:Attività 2025_2026,Corsi accreditati
ATTACH;FMTTYPE=image/jpeg:https://www.collegioborromeo.it/wp-content/uploads/2026/04/fisiologia-scaled.jpg
END:VEVENT
BEGIN:VEVENT
DTSTART;TZID=Europe/Paris:20260422T180000
DTEND;TZID=Europe/Paris:20260422T200000
DTSTAMP:20260423T012049
CREATED:20260401T153819Z
LAST-MODIFIED:20260401T153819Z
UID:10002288-1776880800-1776888000@www.collegioborromeo.it
SUMMARY:Seminari di Giustizia Penale Internazionale
DESCRIPTION:Gli incontri sono riconosciuti dalla Scuola IUSS quale attività formativa extra-ambito dei Corsi ordinari \nCICLO A CURA DI\nPaolo RENON\, Università di Pavia\nMarco SCOLETTA\, Università di Milano Statale\nAdriano MARTUFI\, Università di Pavia \nINTRODUCE E MODERA\nMarco SCOLETTA\, Università di Milano Statale \nPRENOTA IL TUO POSTO \n\nCALENDARIO \nGiovedì 16 aprile 2026\, ore 18.00\nLa giustizia penale internazionale tra passato\, presente e futuro\nChantal MELONI\, Università di Milano Statale\nMatteo COSTI\, Corte Penale Internazionale \nmercoledì 22 aprile 2026\, ore 18.00\nAmnistia e impunità nei crimini internazionali\nGabriele DELLA MORTE\, Università Cattolica del Sacro Cuore di Milano\nPaolo CAROLI\, Università di Torino\n \nmercoledì 6 maggio 2026\, ore 18.00\nIl genocidio\, i genocidi\nEmanuela FRONZA\, Università di Bologna\nCarlo SOTIS\, Università della Tuscia \n\nLOCANDINA
URL:https://www.collegioborromeo.it/event/seminari-di-giustizia-penale-internazionale/2026-04-22/
CATEGORIES:Attività 2025_2026
ATTACH;FMTTYPE=image/jpeg:https://www.collegioborromeo.it/wp-content/uploads/2026/04/giustizia-pena-e-internazionale-scaled.jpg
END:VEVENT
BEGIN:VEVENT
DTSTART;TZID=Europe/Paris:20260422T210000
DTEND;TZID=Europe/Paris:20260422T213000
DTSTAMP:20260423T012049
CREATED:20260319T113925Z
LAST-MODIFIED:20260319T113925Z
UID:10002263-1776891600-1776893400@www.collegioborromeo.it
SUMMARY:Introduzione matematica alla dinamica dei fluidi
DESCRIPTION:CORSO CON DOCENTE\nClaudio DAPPIAGGI\, Università di Pavia \nISCRIVITI QUI \nLEZIONI\nmercoledì 25 marzo 2026 ore 20.30\nmercoledì 1 aprile 2026 ore 21.00\nlunedì 13 aprile 2026 ore 21.00\nmercoledì 22 aprile 2026 ore 21.00\nmercoledì 29 aprile 2026 ore 21.00 \n\nLOCANDINA
URL:https://www.collegioborromeo.it/event/introduzione-matematica-alla-dinamica-dei-fluidi/2026-04-22/
CATEGORIES:Attività 2025_2026,Corsi
ATTACH;FMTTYPE=image/jpeg:https://www.collegioborromeo.it/wp-content/uploads/2026/03/Introduzione-matematica-alla-dinamica-dei-fluidi-scaled.jpg
END:VEVENT
END:VCALENDAR